BEGIN:VCALENDAR
VERSION:2.0
PRODID:-//ortenaukultur.de//NONSGML kigkonsult.se iCalcreator 2.41.92//
CALSCALE:GREGORIAN
METHOD:PUBLISH
UID:30393130-3562-4338-b166-316234346562
X-WR-TIMEZONE:Europe/Berlin
X-LIC-LOCATION:Europe/Berlin
BEGIN:VEVENT
UID:590048-kulturportal@ortenaukultur.de
DTSTAMP:20260422T084209Z
DESCRIPTION:Kurzbeschreibung:\n Die Burgbühne Oberkirch zeigt ein fröhlich-
 freches Theaterstück von Kindern für Kinder zum Thema Kranksein und wieder
  Gesundwerden!\n Ort:\n Freche Hus\n Apothekergasse 7\, 77704 Oberkirch\n 
 Veranstalter:\n Burgbühne Oberkirch\n Termin:\n Beginn: 13.12.2026\, 15:00
  Uhr\n Ende: 13.12.2026\n Tickets:\n Achat de billets\n https://ortenaukul
 tur.reservix.de/p/reservix/event/2523659\n Preise:\n jusqu'à 9\,00 € + Réd
 uction\n *Toute taxe comprise\n \n Link:\n Page détaillée
DTSTART;TZID=Europe/Berlin:20261213T150000
DTEND;TZID=Europe/Berlin:20261213T180000
LOCATION:Freche Hus\, Apothekergasse 7\, 77704 Oberkirch
SUMMARY:Rabe Socke - Alles wieder gut!\, Freche Hus
X-ALT-DESC;FMTTYPE=text/html:<strong>Kurzbeschreibung:</strong><br/>Die Bur
 gbühne Oberkirch zeigt ein fröhlich-freches Theaterstück von Kindern für K
 inder zum Thema Kranksein und wieder Gesundwerden! <br /><strong>Ort:</str
 ong><br/>Freche Hus<br/>Apothekergasse 7\, 77704 Oberkirch<br /><strong>Ve
 ranstalter:</strong><br/>Burgbühne Oberkirch<br /><strong>Termin:</strong>
 <br/>Beginn: 13.12.2026\, 15:00 Uhr<br/>Ende: 13.12.2026<br /><strong>Tick
 ets: </strong><br/><a rel='asdf' href='https://ortenaukultur.de/fr/detail/
 billets/id/590048-rabe-socke-alles-wieder-gut/?follow=https%253A%252F%252F
 ortenaukultur.reservix.de%252Fp%252Freservix%252Fevent%252F2523659' target
 ='_blank' title='' id='ticketlink'>Achat de billets</a><br/>https://ortena
 ukultur.reservix.de/p/reservix/event/2523659<br/><b>Preise: </b><br />jusq
 u&#039\;à 9\,00 &euro\;&nbsp\; + Réduction<br />*Toute taxe comprise<br />
 <br /><strong>Link:</strong><br/><a href='https://ortenaukultur.de/fr/even
 ements/detail/evenement/id/590048-rabe-socke-alles-wieder-gut/?vt=1'>Page 
 détaillée </a>
END:VEVENT
END:VCALENDAR
