BEGIN:VCALENDAR
VERSION:2.0
PRODID:-//ortenaukultur.de//NONSGML kigkonsult.se iCalcreator 2.41.92//
CALSCALE:GREGORIAN
METHOD:PUBLISH
UID:62393238-3134-4264-b735-633833306232
X-WR-TIMEZONE:Europe/Berlin
X-LIC-LOCATION:Europe/Berlin
BEGIN:VEVENT
UID:590223-kulturportal@ortenaukultur.de
DTSTAMP:20260422T014452Z
DESCRIPTION:Kurzbeschreibung:\n Kostenlose Führung zur Langen Nacht der Kul
 tur im Museum im Ritterhaus\n Ort:\n Museum im Ritterhaus\n Ritterstr. 10\
 , 77652 Offenburg\n Veranstalter:\n Museum im Ritterhaus Offenburg\n Termi
 n:\n Beginn: 24.04.2026\, 20:00 Uhr\n Ende: 24.04.2026\n Link:\n Page déta
 illée
DTSTART;TZID=Europe/Berlin:20260424T200000
DTEND;TZID=Europe/Berlin:20260424T230000
LOCATION:Museum im Ritterhaus\, Ritterstr. 10\, 77652 Offenburg
SUMMARY:Die Macht der Karten\, Museum im Ritterhaus
X-ALT-DESC;FMTTYPE=text/html:<strong>Kurzbeschreibung:</strong><br/>Kostenl
 ose Führung zur Langen Nacht der Kultur im Museum im Ritterhaus<br /><stro
 ng>Ort:</strong><br/>Museum im Ritterhaus<br/>Ritterstr. 10\, 77652 Offenb
 urg<br /><strong>Veranstalter:</strong><br/>Museum im Ritterhaus Offenburg
 <br /><strong>Termin:</strong><br/>Beginn: 24.04.2026\, 20:00 Uhr<br/>Ende
 : 24.04.2026<br /><strong>Link:</strong><br/><a href='https://ortenaukultu
 r.de/fr/evenements/detail/evenement/id/590223-die-macht-der-karten/?vt=1'>
 Page détaillée </a>
END:VEVENT
END:VCALENDAR
