BEGIN:VCALENDAR
VERSION:2.0
PRODID:-//ortenaukultur.de//NONSGML kigkonsult.se iCalcreator 2.41.92//
CALSCALE:GREGORIAN
METHOD:PUBLISH
UID:30303035-6335-4039-b331-653664393966
X-WR-TIMEZONE:Europe/Berlin
X-LIC-LOCATION:Europe/Berlin
BEGIN:VEVENT
UID:590279-kulturportal@ortenaukultur.de
DTSTAMP:20260422T225951Z
DESCRIPTION:Kurzbeschreibung:\n Erfahren Sie spannende Hintergründe über di
 e Tradition des Brennens. Schnaps- und Likörprobe und Fingerfood. Anmeldun
 g erforderlich: 07838 663\, 19 Euro p.P.\n Ort:\n Heidenbühlhof\n Heidenbü
 hl 2\, 77787 Nordrach\n Veranstalter:\n Heidenbühlhof\n Termin:\n Beginn: 
 25.06.2026\, 18:00 Uhr\n Ende: 25.06.2026\n Link:\n Page détaillée
DTSTART;TZID=Europe/Berlin:20260625T180000
DTEND;TZID=Europe/Berlin:20260625T210000
LOCATION:Heidenbühlhof\, Heidenbühl 2\, 77787 Nordrach
SUMMARY:Faszinierende Welt der Brennerei auf dem Heidenbühlhof\, Heidenbühl
 hof
X-ALT-DESC;FMTTYPE=text/html:<strong>Kurzbeschreibung:</strong><br/>Erfahre
 n Sie spannende Hintergründe über die Tradition des Brennens. Schnaps- und
  Likörprobe und Fingerfood. Anmeldung erforderlich: 07838 663\, 19 Euro p.
 P.<br /><strong>Ort:</strong><br/>Heidenbühlhof<br/>Heidenbühl 2\, 77787 N
 ordrach<br /><strong>Veranstalter:</strong><br/>Heidenbühlhof<br /><strong
 >Termin:</strong><br/>Beginn: 25.06.2026\, 18:00 Uhr<br/>Ende: 25.06.2026<
 br /><strong>Link:</strong><br/><a href='https://ortenaukultur.de/fr/evene
 ments/detail/evenement/id/590279-faszinierende-welt-der-brennerei-auf-dem-
 heidenbuehlhof/?vt=1'>Page détaillée </a>
END:VEVENT
END:VCALENDAR
