BEGIN:VCALENDAR
VERSION:2.0
PRODID:-//ortenaukultur.de//NONSGML kigkonsult.se iCalcreator 2.41.92//
CALSCALE:GREGORIAN
METHOD:PUBLISH
UID:38356665-3438-4637-b233-366231323237
X-WR-TIMEZONE:Europe/Berlin
X-LIC-LOCATION:Europe/Berlin
BEGIN:VEVENT
UID:590340-kulturportal@ortenaukultur.de
DTSTAMP:20260422T170858Z
DESCRIPTION:Kurzbeschreibung:\n Internationaler Museumstag - Kostenlose Füh
 rung für Familien mit Kindern ab 6 Jahren durch alle Abteilungen des Museu
 ms\n Ort:\n Museum im Ritterhaus\n Ritterstr. 10\, 77652 Offenburg\n Veran
 stalter:\n Museum im Ritterhaus Offenburg\n Termin:\n Beginn: 17.05.2026\,
  15:00 Uhr\n Ende: 17.05.2026\n Link:\n Page détaillée
DTSTART;TZID=Europe/Berlin:20260517T150000
DTEND;TZID=Europe/Berlin:20260517T180000
LOCATION:Museum im Ritterhaus\, Ritterstr. 10\, 77652 Offenburg
SUMMARY:Reise um die Welt  \, Museum im Ritterhaus
X-ALT-DESC;FMTTYPE=text/html:<strong>Kurzbeschreibung:</strong><br/>Interna
 tionaler Museumstag - Kostenlose Führung für Familien mit Kindern ab 6 Jah
 ren durch alle Abteilungen des Museums<br /><strong>Ort:</strong><br/>Muse
 um im Ritterhaus<br/>Ritterstr. 10\, 77652 Offenburg<br /><strong>Veransta
 lter:</strong><br/>Museum im Ritterhaus Offenburg<br /><strong>Termin:</st
 rong><br/>Beginn: 17.05.2026\, 15:00 Uhr<br/>Ende: 17.05.2026<br /><strong
 >Link:</strong><br/><a href='https://ortenaukultur.de/fr/evenements/detail
 /evenement/id/590340-reise-um-die-welt/?vt=1'>Page détaillée </a>
END:VEVENT
END:VCALENDAR
