BEGIN:VCALENDAR
VERSION:2.0
PRODID:-//ortenaukultur.de//NONSGML kigkonsult.se iCalcreator 2.41.92//
CALSCALE:GREGORIAN
METHOD:PUBLISH
UID:35373834-6232-4230-a232-613664663732
X-WR-TIMEZONE:Europe/Berlin
X-LIC-LOCATION:Europe/Berlin
BEGIN:VEVENT
UID:590343-kulturportal@ortenaukultur.de
DTSTAMP:20260421T221846Z
DESCRIPTION:Kurzbeschreibung:\n Kurs für Kinder von 5 - 9 Jahren in der Nat
 urkundeabteilung des Museums im Ritterhaus\n Ort:\n Museum im Ritterhaus\n
  Ritterstr. 10\, 77652 Offenburg\n Veranstalter:\n Museum im Ritterhaus Of
 fenburg\n Termin:\n Beginn: 26.05.2026\, 15:00 Uhr\n Ende: 26.05.2026\n Li
 nk:\n Page détaillée
DTSTART;TZID=Europe/Berlin:20260526T150000
DTEND;TZID=Europe/Berlin:20260526T180000
LOCATION:Museum im Ritterhaus\, Ritterstr. 10\, 77652 Offenburg
SUMMARY:Auf Tour im Museum\, Museum im Ritterhaus
X-ALT-DESC;FMTTYPE=text/html:<strong>Kurzbeschreibung:</strong><br/>Kurs fü
 r Kinder von 5 - 9 Jahren in der Naturkundeabteilung des Museums im Ritter
 haus<br /><strong>Ort:</strong><br/>Museum im Ritterhaus<br/>Ritterstr. 10
 \, 77652 Offenburg<br /><strong>Veranstalter:</strong><br/>Museum im Ritte
 rhaus Offenburg<br /><strong>Termin:</strong><br/>Beginn: 26.05.2026\, 15:
 00 Uhr<br/>Ende: 26.05.2026<br /><strong>Link:</strong><br/><a href='https
 ://ortenaukultur.de/fr/evenements/detail/evenement/id/590343-auf-tour-im-m
 useum/?vt=1'>Page détaillée </a>
END:VEVENT
END:VCALENDAR
