BEGIN:VCALENDAR
VERSION:2.0
PRODID:-//ortenaukultur.de//NONSGML kigkonsult.se iCalcreator 2.41.92//
CALSCALE:GREGORIAN
METHOD:PUBLISH
UID:35383162-3131-4534-b631-623462313033
X-WR-TIMEZONE:Europe/Berlin
X-LIC-LOCATION:Europe/Berlin
BEGIN:VEVENT
UID:590578-kulturportal@ortenaukultur.de
DTSTAMP:20260421T222026Z
DESCRIPTION:Kurzbeschreibung:\n Verbringen Sie einen schönen Nachmittag auf
  dem Hofgut Heuberg mit Weinverkostung\n Ort:\n Hof\n Alm 53\, 77704 Oberk
 irch-Ödsbach\n Veranstalter:\n Hofgut Heuberg\n Termin:\n Beginn: 10.05.20
 26\, 15:30 Uhr\n Ende: 10.05.2026\n Link:\n Page détaillée
DTSTART;TZID=Europe/Berlin:20260510T153000
DTEND;TZID=Europe/Berlin:20260510T183000
LOCATION:Hof\, Alm 53\, 77704 Oberkirch-Ödsbach
SUMMARY:Genussvoller Frühlingsspaziergang\, Hofgut Heuberg
X-ALT-DESC;FMTTYPE=text/html:<strong>Kurzbeschreibung:</strong><br/>Verbrin
 gen Sie einen schönen Nachmittag auf dem Hofgut Heuberg mit Weinverkostung
 <br /><strong>Ort:</strong><br/>Hof<br/>Alm 53\,  77704 Oberkirch-Ödsbach<
 br /><strong>Veranstalter:</strong><br/>Hofgut Heuberg<br /><strong>Termin
 :</strong><br/>Beginn: 10.05.2026\, 15:30 Uhr<br/>Ende: 10.05.2026<br /><s
 trong>Link:</strong><br/><a href='https://ortenaukultur.de/fr/evenements/d
 etail/evenement/id/590578-genussvoller-fruehlingsspaziergang/?vt=1'>Page d
 étaillée </a>
END:VEVENT
END:VCALENDAR
