BEGIN:VCALENDAR
VERSION:2.0
PRODID:-//ortenaukultur.de//NONSGML kigkonsult.se iCalcreator 2.41.92//
CALSCALE:GREGORIAN
METHOD:PUBLISH
UID:61326461-6464-4666-b130-386163333234
X-WR-TIMEZONE:Europe/Berlin
X-LIC-LOCATION:Europe/Berlin
BEGIN:VEVENT
UID:590607-kulturportal@ortenaukultur.de
DTSTAMP:20260422T012240Z
DESCRIPTION:Kurzbeschreibung:\n Kurs für Kinder von 4 - 5 Jahren in der Nat
 urkunde-Abteilung des Museums\n Ort:\n Museum im Ritterhaus\n Ritterstr. 1
 0\, 77652 Offenburg\n Veranstalter:\n Museum im Ritterhaus Offenburg\n Ter
 min:\n Beginn: 30.06.2026\, 15:00 Uhr\n Ende: 30.06.2026\n Link:\n Page dé
 taillée
DTSTART;TZID=Europe/Berlin:20260630T150000
DTEND;TZID=Europe/Berlin:20260630T180000
LOCATION:Museum im Ritterhaus\, Ritterstr. 10\, 77652 Offenburg
SUMMARY:Schatzsuche im Wald für die Kleinen\, Museum im Ritterhaus
X-ALT-DESC;FMTTYPE=text/html:<strong>Kurzbeschreibung:</strong><br/>Kurs fü
 r Kinder von 4 - 5 Jahren in der Naturkunde-Abteilung des Museums<br /><st
 rong>Ort:</strong><br/>Museum im Ritterhaus<br/>Ritterstr. 10\, 77652 Offe
 nburg<br /><strong>Veranstalter:</strong><br/>Museum im Ritterhaus Offenbu
 rg<br /><strong>Termin:</strong><br/>Beginn: 30.06.2026\, 15:00 Uhr<br/>En
 de: 30.06.2026<br /><strong>Link:</strong><br/><a href='https://ortenaukul
 tur.de/fr/evenements/detail/evenement/id/590607-schatzsuche-im-wald-fuer-d
 ie-kleinen/?vt=1'>Page détaillée </a>
END:VEVENT
END:VCALENDAR
