BEGIN:VCALENDAR
VERSION:2.0
PRODID:-//ortenaukultur.de//NONSGML kigkonsult.se iCalcreator 2.41.92//
CALSCALE:GREGORIAN
METHOD:PUBLISH
UID:36643763-6262-4838-b531-623536663738
X-WR-TIMEZONE:Europe/Berlin
X-LIC-LOCATION:Europe/Berlin
BEGIN:VEVENT
UID:590877-kulturportal@ortenaukultur.de
DTSTAMP:20260422T011943Z
DESCRIPTION:Kurzbeschreibung:\n Konzert für Liebhaber klassischer Musik mit
  Klavierstücken von Beethoven\, Chopin und Ravel. Der Höhepunkt bildet die
  Tannhäuser Ouvertüre von Richard Wagner.\n Ort:\n Alte Kirche Fautenbach\
 , Mühlenstraße 15\, Achern-Fautenbach\n Veranstalter:\n Open-Verein e.V.\n
  Termin:\n Beginn: 25.04.2026\n Ende: 25.04.2026\n Link:\n Page détaillée
DTSTART;TZID=Europe/Berlin:20260425T000000
DTEND;TZID=Europe/Berlin:20260425T030000
LOCATION:Alte Kirche Fautenbach\, Mühlenstraße 15\, Achern-Fautenbach
SUMMARY:Benefizkonzert mit Volodymyr Chumachenko\, Alte Kirche Fautenbach\,
  Mühlenstraße 15
X-ALT-DESC;FMTTYPE=text/html:<strong>Kurzbeschreibung:</strong><br/>Konzert
  für Liebhaber klassischer Musik mit Klavierstücken von Beethoven\, Chopin
  und Ravel.\nDer Höhepunkt bildet die Tannhäuser Ouvertüre von Richard Wag
 ner.<br /><strong>Ort:</strong><br/>Alte Kirche Fautenbach\, Mühlenstraße 
 15\, Achern-Fautenbach<br /><strong>Veranstalter:</strong><br/>Open-Verein
  e.V.<br /><strong>Termin:</strong><br/>Beginn: 25.04.2026<br/>Ende: 25.04
 .2026<br /><strong>Link:</strong><br/><a href='https://ortenaukultur.de/fr
 /evenements/detail/evenement/id/590877-benefizkonzert-mit-volodymyr-chumac
 henko/?vt=1'>Page détaillée </a>
END:VEVENT
END:VCALENDAR
