BEGIN:VCALENDAR
VERSION:2.0
PRODID:-//ortenaukultur.de//NONSGML kigkonsult.se iCalcreator 2.41.92//
CALSCALE:GREGORIAN
METHOD:PUBLISH
UID:39626637-3934-4239-b866-303736363431
X-WR-TIMEZONE:Europe/Berlin
X-LIC-LOCATION:Europe/Berlin
BEGIN:VEVENT
UID:591327-kulturportal@ortenaukultur.de
DTSTAMP:20260422T093531Z
DESCRIPTION:Kurzbeschreibung:\n Erleben Sie einen stimmungsvollen Abend vol
 ler lebendiger Geschichte und gelebter Heimat!\n Ort:\n Bärenplatz\n Haupt
 straße 85\, 78132 Hornberg\n Veranstalter:\n Trachtengruppe Historischer V
 erein Hornberg\n Termin:\n Beginn: 05.06.2026\, 19:30 Uhr\n Ende: 05.06.20
 26\n Link:\n Page détaillée
DTSTART;TZID=Europe/Berlin:20260605T193000
DTEND;TZID=Europe/Berlin:20260605T223000
LOCATION:Bärenplatz\, Hauptstraße 85\, 78132 Hornberg
SUMMARY:Brauchtumsabend – Tradition erleben!\, Bärenplatz
X-ALT-DESC;FMTTYPE=text/html:<strong>Kurzbeschreibung:</strong><br/>Erleben
  Sie einen stimmungsvollen Abend voller lebendiger Geschichte und gelebter
  Heimat!<br /><strong>Ort:</strong><br/>Bärenplatz<br/>Hauptstraße 85\, 78
 132 Hornberg<br /><strong>Veranstalter:</strong><br/>Trachtengruppe Histor
 ischer Verein Hornberg<br /><strong>Termin:</strong><br/>Beginn: 05.06.202
 6\, 19:30 Uhr<br/>Ende: 05.06.2026<br /><strong>Link:</strong><br/><a href
 ='https://ortenaukultur.de/fr/evenements/detail/evenement/id/591327-brauch
 tumsabend-tradition-erleben/?vt=1'>Page détaillée </a>
END:VEVENT
END:VCALENDAR
