BEGIN:VCALENDAR
VERSION:2.0
PRODID:-//ortenaukultur.de//NONSGML kigkonsult.se iCalcreator 2.41.92//
CALSCALE:GREGORIAN
METHOD:PUBLISH
UID:37313336-3762-4237-b136-643439313730
X-WR-TIMEZONE:Europe/Berlin
X-LIC-LOCATION:Europe/Berlin
BEGIN:VEVENT
UID:591472-kulturportal@ortenaukultur.de
DTSTAMP:20260422T005224Z
DESCRIPTION:Kurzbeschreibung:\n Die GFA Finanz & Immo lädt am 08.05.2026 ab
  14.00 Uhr herzlich zur Hausmesse ein.\n Ort:\n Tullastraße 22\, Ettenheim
 \n Veranstalter:\n GFA Finanzberatung GmbH\n Termin:\n Beginn: 08.05.2026
 \n Ende: 08.05.2026\n Link:\n Page détaillée
DTSTART;TZID=Europe/Berlin:20260508T000000
DTEND;TZID=Europe/Berlin:20260508T030000
LOCATION:Tullastraße 22\, Ettenheim
SUMMARY:Hausmesse & After-Work-Party bei der GFA Finanz & Immo\, Tullastraß
 e 22
X-ALT-DESC;FMTTYPE=text/html:<strong>Kurzbeschreibung:</strong><br/>Die GFA
  Finanz & Immo lädt am 08.05.2026 ab 14.00 Uhr herzlich zur Hausmesse ein.
 <br /><strong>Ort:</strong><br/>Tullastraße 22\, Ettenheim<br /><strong>Ve
 ranstalter:</strong><br/>GFA Finanzberatung GmbH<br /><strong>Termin:</str
 ong><br/>Beginn: 08.05.2026<br/>Ende: 08.05.2026<br /><strong>Link:</stron
 g><br/><a href='https://ortenaukultur.de/fr/evenements/detail/evenement/id
 /591472-hausmesse-after-work-party-bei-der-gfa-finanz-immo/?vt=1'>Page dét
 aillée </a>
END:VEVENT
END:VCALENDAR
