BEGIN:VCALENDAR
VERSION:2.0
PRODID:-//ortenaukultur.de//NONSGML kigkonsult.se iCalcreator 2.41.92//
CALSCALE:GREGORIAN
METHOD:PUBLISH
UID:30326532-6236-4766-b330-393732643037
X-WR-TIMEZONE:Europe/Berlin
X-LIC-LOCATION:Europe/Berlin
BEGIN:VEVENT
UID:591477-kulturportal@ortenaukultur.de
DTSTAMP:20260422T084629Z
DESCRIPTION:Kurzbeschreibung:\n Auftanken zwischen Arbeit & Alltag für alle
  Interessierten - Impulse\, Gedanken\, nette Gespräche\, Getränke und Snac
 ks.\n Ort:\n Kath. Gemeindehaus St. Elisabeth\, Friedenstr. 16\, Offenburg
 \n Veranstalter:\n Betriebsseelsorge in Kooperation mit der Kirchengemeind
 e Mittlere Ortenau\n Termin:\n Beginn: 28.04.2026\, 17:17 Uhr\n Ende: 28.0
 4.2026\n Link:\n Page détaillée
DTSTART;TZID=Europe/Berlin:20260428T171700
DTEND;TZID=Europe/Berlin:20260428T201700
LOCATION:Kath. Gemeindehaus St. Elisabeth\, Friedenstr. 16\, Offenburg
SUMMARY:Afterwork - Gedanke trifft Getränk\, Kath. Gemeindehaus St. Elisabe
 th\, Friedenstr. 16
X-ALT-DESC;FMTTYPE=text/html:<strong>Kurzbeschreibung:</strong><br/>Auftank
 en zwischen Arbeit & Alltag für alle Interessierten - \nImpulse\, Gedanken
 \, nette Gespräche\, Getränke und Snacks.\n<br /><strong>Ort:</strong><br/
 >Kath. Gemeindehaus St. Elisabeth\, Friedenstr. 16\, Offenburg<br /><stron
 g>Veranstalter:</strong><br/>Betriebsseelsorge in Kooperation mit der Kirc
 hengemeinde Mittlere Ortenau<br /><strong>Termin:</strong><br/>Beginn: 28.
 04.2026\, 17:17 Uhr<br/>Ende: 28.04.2026<br /><strong>Link:</strong><br/><
 a href='https://ortenaukultur.de/fr/evenements/detail/evenement/id/591477-
 afterwork-gedanke-trifft-getraenk/?vt=1'>Page détaillée </a>
END:VEVENT
END:VCALENDAR
