BEGIN:VCALENDAR
VERSION:2.0
PRODID:-//ortenaukultur.de//NONSGML kigkonsult.se iCalcreator 2.41.92//
CALSCALE:GREGORIAN
METHOD:PUBLISH
UID:30613935-3062-4039-b330-626539336139
X-WR-TIMEZONE:Europe/Berlin
X-LIC-LOCATION:Europe/Berlin
BEGIN:VEVENT
UID:591485-kulturportal@ortenaukultur.de
DTSTAMP:20260422T002302Z
DESCRIPTION:Kurzbeschreibung:\n Die Abenteuer des Simplicissimus. Grimmelsh
 ausen nacherzählt für Jugendliche und Junggebliebene\n Ort:\n Simplicissim
 us-Haus\n Hauptstraße 59\, 77871 Renchen\n Veranstalter:\n Grimmelshausenf
 reunde e. V.\n Termin:\n Beginn: 26.04.2026\, 15:00 Uhr\n Ende: 26.04.2026
 \n Tickets:\n 3 Euro\n Link:\n Page détaillée
DTSTART;TZID=Europe/Berlin:20260426T150000
DTEND;TZID=Europe/Berlin:20260426T180000
LOCATION:Simplicissimus-Haus \, Hauptstraße 59\, 77871 Renchen
SUMMARY:Sonderausstellung Klaus Puth \, Simplicissimus-Haus
X-ALT-DESC;FMTTYPE=text/html:<strong>Kurzbeschreibung:</strong><br/>Die Abe
 nteuer des Simplicissimus. Grimmelshausen nacherzählt für Jugendliche und 
 Junggebliebene<br /><strong>Ort:</strong><br/>Simplicissimus-Haus <br/>Hau
 ptstraße 59\, 77871 Renchen<br /><strong>Veranstalter:</strong><br/>Grimme
 lshausenfreunde e. V.<br /><strong>Termin:</strong><br/>Beginn: 26.04.2026
 \, 15:00 Uhr<br/>Ende: 26.04.2026<br /><strong>Tickets: </strong><br/>3 Eu
 ro<br /><strong>Link:</strong><br/><a href='https://ortenaukultur.de/fr/ev
 enements/detail/evenement/id/591485-sonderausstellung-klaus-puth/?vt=1'>Pa
 ge détaillée </a>
END:VEVENT
END:VCALENDAR
