BEGIN:VCALENDAR
VERSION:2.0
PRODID:-//ortenaukultur.de//NONSGML kigkonsult.se iCalcreator 2.41.92//
CALSCALE:GREGORIAN
METHOD:PUBLISH
UID:64636532-3834-4930-b834-316437323066
X-WR-TIMEZONE:Europe/Berlin
X-LIC-LOCATION:Europe/Berlin
BEGIN:VEVENT
UID:591648-kulturportal@ortenaukultur.de
DTSTAMP:20260422T014658Z
DESCRIPTION:Kurzbeschreibung:\n Das Weihnachtsprogramm von piano.vocal\, Ca
 rsten Dittrich und Anne Schmidt-Heinrich.\n Ort:\n ´s freche hus\n Apothek
 ergasse 7\, 77704 Oberkirch\n Veranstalter:\n Stadt Oberkirch\n Termin:\n 
 Beginn: 09.12.2026\, 20:00 Uhr\n Ende: 09.12.2026\n Tickets:\n Achat de bi
 llets\n https://ortenaukultur.reservix.de/p/reservix/event/2541586\n Preis
 e:\n jusqu'à 16\,00 € + Réduction\n *Toute taxe comprise\n \n Link:\n Page
  détaillée
DTSTART;TZID=Europe/Berlin:20261209T200000
DTEND;TZID=Europe/Berlin:20261209T230000
LOCATION:´s freche hus\, Apothekergasse 7\, 77704 Oberkirch
SUMMARY:Piano.vocal - A christmas carol\, ´s freche hus
X-ALT-DESC;FMTTYPE=text/html:<strong>Kurzbeschreibung:</strong><br/>Das Wei
 hnachtsprogramm von piano.vocal\, Carsten Dittrich und Anne Schmidt-Heinri
 ch.<br /><strong>Ort:</strong><br/>´s freche hus<br/>Apothekergasse 7\, 77
 704 Oberkirch<br /><strong>Veranstalter:</strong><br/>Stadt Oberkirch<br /
 ><strong>Termin:</strong><br/>Beginn: 09.12.2026\, 20:00 Uhr<br/>Ende: 09.
 12.2026<br /><strong>Tickets: </strong><br/><a rel='asdf' href='https://or
 tenaukultur.de/fr/detail/billets/id/591648-piano-vocal-a-christmas-carol/?
 follow=https%253A%252F%252Fortenaukultur.reservix.de%252Fp%252Freservix%25
 2Fevent%252F2541586' target='_blank' title='' id='ticketlink'>Achat de bil
 lets</a><br/>https://ortenaukultur.reservix.de/p/reservix/event/2541586<br
 /><b>Preise: </b><br />jusqu&#039\;à 16\,00 &euro\;&nbsp\; + Réduction<br 
 />*Toute taxe comprise<br /><br /><strong>Link:</strong><br/><a href='http
 s://ortenaukultur.de/fr/evenements/detail/evenement/id/591648-piano-vocal-
 a-christmas-carol/?vt=1'>Page détaillée </a>
END:VEVENT
END:VCALENDAR
