BEGIN:VCALENDAR
VERSION:2.0
PRODID:-//ortenaukultur.de//NONSGML kigkonsult.se iCalcreator 2.41.92//
CALSCALE:GREGORIAN
METHOD:PUBLISH
UID:32653562-3531-4139-b032-353065313563
X-WR-TIMEZONE:Europe/Berlin
X-LIC-LOCATION:Europe/Berlin
BEGIN:VEVENT
UID:591650-kulturportal@ortenaukultur.de
DTSTAMP:20260421T222620Z
DESCRIPTION:Kurzbeschreibung:\n Heilpflanzen im Jahresverlauf intensiv kenn
 enlernen und nutzen. Veranstaltung mit Wildkräuter- und Heilpflanzenpädago
 gin Agnes Vogt\n Ort:\n Grüne Begleiter\n Wahlholzstr. 2\, 77728 Oppenau\n
  Veranstalter:\n Agnes Vogt\n Termin:\n Beginn: 05.05.2026\, 19:00 Uhr\n E
 nde: 05.05.2026\n Tickets:\n 85.-€ zzgl. Material für alles Veranstaltunge
 n\n Link:\n Page détaillée
DTSTART;TZID=Europe/Berlin:20260505T190000
DTEND;TZID=Europe/Berlin:20260505T220000
LOCATION:Grüne Begleiter\, Wahlholzstr. 2\, 77728 Oppenau
SUMMARY:Im Heilpflanzenjahr unterwegs \, Grüne Begleiter
X-ALT-DESC;FMTTYPE=text/html:<strong>Kurzbeschreibung:</strong><br/>Heilpfl
 anzen im Jahresverlauf intensiv kennenlernen und nutzen. Veranstaltung mit
  Wildkräuter- und Heilpflanzenpädagogin Agnes Vogt <br /><strong>Ort:</str
 ong><br/>Grüne Begleiter<br/>Wahlholzstr. 2\, 77728 Oppenau<br /><strong>V
 eranstalter:</strong><br/>Agnes Vogt<br /><strong>Termin:</strong><br/>Beg
 inn: 05.05.2026\, 19:00 Uhr<br/>Ende: 05.05.2026<br /><strong>Tickets: </s
 trong><br/>85.-€ zzgl. Material für alles Veranstaltungen<br /><strong>Lin
 k:</strong><br/><a href='https://ortenaukultur.de/fr/evenements/detail/eve
 nement/id/591650-im-heilpflanzenjahr-unterwegs/?vt=1'>Page détaillée </a>
END:VEVENT
END:VCALENDAR
