BEGIN:VCALENDAR
VERSION:2.0
PRODID:-//ortenaukultur.de//NONSGML kigkonsult.se iCalcreator 2.41.92//
CALSCALE:GREGORIAN
METHOD:PUBLISH
UID:39623337-3638-4736-a336-363862353264
X-WR-TIMEZONE:Europe/Berlin
X-LIC-LOCATION:Europe/Berlin
BEGIN:VEVENT
UID:591661-kulturportal@ortenaukultur.de
DTSTAMP:20260421T215102Z
DESCRIPTION:Kurzbeschreibung:\n Eine auditive Reise durch das Museum währen
 d der Langen Nacht der Kultur mit Künstler und Musikhochschulprofessor Dr.
  Joachim Gossmann\n Ort:\n Museum im Ritterhaus\n Ritterstr. 10\, 77652 Of
 fenburg\n Veranstalter:\n Museum im Ritterhaus Offenburg\n Termin:\n Begin
 n: 24.04.2026\, 19:00 Uhr\n Ende: 24.04.2026\n Link:\n Page détaillée
DTSTART;TZID=Europe/Berlin:20260424T190000
DTEND;TZID=Europe/Berlin:20260424T220000
LOCATION:Museum im Ritterhaus\, Ritterstr. 10\, 77652 Offenburg
SUMMARY:Voll auf die Ohren: Eine Soundreise durchs Museum\, Museum im Ritte
 rhaus
X-ALT-DESC;FMTTYPE=text/html:<strong>Kurzbeschreibung:</strong><br/>Eine au
 ditive Reise durch das Museum während der Langen Nacht der Kultur mit Küns
 tler und Musikhochschulprofessor Dr. Joachim Gossmann <br /><strong>Ort:</
 strong><br/>Museum im Ritterhaus<br/>Ritterstr. 10\, 77652 Offenburg<br />
 <strong>Veranstalter:</strong><br/>Museum im Ritterhaus Offenburg<br /><st
 rong>Termin:</strong><br/>Beginn: 24.04.2026\, 19:00 Uhr<br/>Ende: 24.04.2
 026<br /><strong>Link:</strong><br/><a href='https://ortenaukultur.de/fr/e
 venements/detail/evenement/id/591661-voll-auf-die-ohren-eine-soundreise-du
 rchs-museum/?vt=1'>Page détaillée </a>
END:VEVENT
END:VCALENDAR
