BEGIN:VCALENDAR
VERSION:2.0
PRODID:-//ortenaukultur.de//NONSGML kigkonsult.se iCalcreator 2.41.92//
CALSCALE:GREGORIAN
METHOD:PUBLISH
UID:32356661-3365-4635-b732-623064366534
X-WR-TIMEZONE:Europe/Berlin
X-LIC-LOCATION:Europe/Berlin
BEGIN:VEVENT
UID:593740-kulturportal@ortenaukultur.de
DTSTAMP:20260421T194611Z
DESCRIPTION:Kurzbeschreibung:\n Tanzen für Erwachsene: Gelenkschonend\, lei
 cht zu lernen und ideal\, um fit zu bleiben\, Spaß zu haben und neue Leute
  zu treffen.\n Ort:\n Am Stadion 3\, Achern\n Veranstalter:\n Tanzsportclu
 b Achern e.V.\n Termin:\n Beginn: 02.04.2026\, 10:30 Uhr\n Ende: 02.04.202
 6\n Tickets:\n Mitgliedschaft im TSC-Achern (34\,50 € monatlich zzgl. 15\,
 -€ Aufnahmegebühr)\n oder 10er Karte für 110\,-€\n \n Probetraining jederz
 eit möglich!\n Link:\n Page détaillée
DTSTART;TZID=Europe/Berlin:20260402T103000
DTEND;TZID=Europe/Berlin:20260402T133000
LOCATION:Am Stadion 3\, Achern
SUMMARY:Seniorentanz\, Am Stadion 3
X-ALT-DESC;FMTTYPE=text/html:<strong>Kurzbeschreibung:</strong><br/>Tanzen 
 für Erwachsene: Gelenkschonend\, leicht zu lernen und ideal\, um fit zu bl
 eiben\, Spaß zu haben und neue Leute zu treffen.<br /><strong>Ort:</strong
 ><br/>Am Stadion 3\, Achern<br /><strong>Veranstalter:</strong><br/>Tanzsp
 ortclub Achern e.V.<br /><strong>Termin:</strong><br/>Beginn: 02.04.2026\,
  10:30 Uhr<br/>Ende: 02.04.2026<br /><strong>Tickets: </strong><br/>Mitgli
 edschaft im TSC-Achern (34\,50 € monatlich zzgl. 15\,-€ Aufnahmegebühr) <b
 r />\noder 10er Karte für 110\,-€ <br />\n<br />\nProbetraining jederzeit 
 möglich!<br /><strong>Link:</strong><br/><a href='https://ortenaukultur.de
 /fr/evenements/detail/evenement/id/593740-seniorentanz/?vt=1'>Page détaill
 ée </a>
END:VEVENT
END:VCALENDAR
