BEGIN:VCALENDAR
VERSION:2.0
PRODID:-//ortenaukultur.de//NONSGML kigkonsult.se iCalcreator 2.41.92//
CALSCALE:GREGORIAN
METHOD:PUBLISH
UID:35316333-6531-4563-a365-326533376331
X-WR-TIMEZONE:Europe/Berlin
X-LIC-LOCATION:Europe/Berlin
BEGIN:VEVENT
UID:593822-kulturportal@ortenaukultur.de
DTSTAMP:20260422T020711Z
DESCRIPTION:Kurzbeschreibung:\n Finissage: claroscuro Malerei von CELSO MAR
 TÍNEZ NAVES\n Ort:\n L´art pour Lahr e.V. Die Galerie Obertorstraße 4 7793
 3 Lahr Hinter dem Alten Rathaus / Städtische Galerie\, Lahr\n Veranstalter
 :\n L´ART POUR LAHR e.V. Die Galerie\n Termin:\n Beginn: 23.05.2026\n Ende
 : 23.05.2026\n Tickets:\n Freier Eintritt\n Link:\n Page détaillée
DTSTART;TZID=Europe/Berlin:20260523T000000
DTEND;TZID=Europe/Berlin:20260523T030000
LOCATION:L´art pour Lahr e.V. Die Galerie Obertorstraße 4 77933 Lahr Hinter
  dem Alten Rathaus / Städtische Galerie\, Lahr
SUMMARY:Finissage:  claroscuro\, L´art pour Lahr e.V. Die Galerie | Obertor
 straße 4 | 77933 Lahr | Hinter dem Alten Rathaus / Städtische Galerie
X-ALT-DESC;FMTTYPE=text/html:<strong>Kurzbeschreibung:</strong><br/>Finissa
 ge:  claroscuro\n                                           \nMalerei von 
 CELSO MARTÍNEZ NAVES\n\n\n\n<br /><strong>Ort:</strong><br/>L´art pour Lah
 r e.V. Die Galerie | Obertorstraße 4 | 77933 Lahr | Hinter dem Alten Ratha
 us / Städtische Galerie\, Lahr<br /><strong>Veranstalter:</strong><br/>L´A
 RT POUR LAHR e.V. Die Galerie<br /><strong>Termin:</strong><br/>Beginn: 23
 .05.2026<br/>Ende: 23.05.2026<br /><strong>Tickets: </strong><br/>Freier E
 intritt<br /><strong>Link:</strong><br/><a href='https://ortenaukultur.de/
 fr/evenements/detail/evenement/id/593822-finissage-claroscuro/?vt=1'>Page 
 détaillée </a>
END:VEVENT
END:VCALENDAR
