BEGIN:VCALENDAR
VERSION:2.0
PRODID:-//ortenaukultur.de//NONSGML kigkonsult.se iCalcreator 2.41.92//
CALSCALE:GREGORIAN
METHOD:PUBLISH
UID:34356661-6339-4239-b232-613934366363
X-WR-TIMEZONE:Europe/Berlin
X-LIC-LOCATION:Europe/Berlin
BEGIN:VEVENT
UID:593896-kulturportal@ortenaukultur.de
DTSTAMP:20260422T223223Z
DESCRIPTION:Kurzbeschreibung:\n Begegnungen mit Repräsentierenden verschied
 ener Religionen im Freilichtmuseum Vogtsbauernhof\n Ort:\n Schwarzwälder F
 reilichtmuseum Vogtsbauernhof\n Vogtsbauernhof\, 77793 Gutach (Schwarzwald
 bahn)\n Veranstalter:\n Schwarzwälder Freilichtmuseum Vogtsbauernhof\n Ter
 min:\n Beginn: 14.05.2026\, 11:00 Uhr\n Ende: 14.05.2026\n Link:\n Page dé
 taillée
DTSTART;TZID=Europe/Berlin:20260514T110000
DTEND;TZID=Europe/Berlin:20260514T140000
LOCATION:Schwarzwälder Freilichtmuseum Vogtsbauernhof\, Vogtsbauernhof\, 77
 793 Gutach (Schwarzwaldbahn)
SUMMARY:Begegnungen: Religionen im Dialog\, Schwarzwälder Freilichtmuseum V
 ogtsbauernhof
X-ALT-DESC;FMTTYPE=text/html:<strong>Kurzbeschreibung:</strong><br/>Begegnu
 ngen mit Repräsentierenden verschiedener Religionen im Freilichtmuseum Vog
 tsbauernhof<br /><strong>Ort:</strong><br/>Schwarzwälder Freilichtmuseum V
 ogtsbauernhof<br/>Vogtsbauernhof\, 77793 Gutach (Schwarzwaldbahn)<br /><st
 rong>Veranstalter:</strong><br/>Schwarzwälder Freilichtmuseum Vogtsbauernh
 of<br /><strong>Termin:</strong><br/>Beginn: 14.05.2026\, 11:00 Uhr<br/>En
 de: 14.05.2026<br /><strong>Link:</strong><br/><a href='https://ortenaukul
 tur.de/fr/evenements/detail/evenement/id/593896-begegnungen-religionen-im-
 dialog/?vt=1'>Page détaillée </a>
END:VEVENT
END:VCALENDAR
