BEGIN:VCALENDAR
VERSION:2.0
PRODID:-//ortenaukultur.de//NONSGML kigkonsult.se iCalcreator 2.41.92//
CALSCALE:GREGORIAN
METHOD:PUBLISH
UID:61333132-6161-4364-a662-343132313961
X-WR-TIMEZONE:Europe/Berlin
X-LIC-LOCATION:Europe/Berlin
BEGIN:VEVENT
UID:593907-kulturportal@ortenaukultur.de
DTSTAMP:20260425T131928Z
DESCRIPTION:Kurzbeschreibung:\n Schwarzwaldmalerei – die Maler der Region s
 ind zu Gast im Freilichtmuseum Vogtsbauernhof\n Ort:\n Schwarzwälder Freil
 ichtmuseum Vogtsbauernhof\n Vogtsbauernhof\, 77793 Gutach (Schwarzwaldbahn
 )\n Veranstalter:\n Schwarzwälder Freilichtmuseum Vogtsbauernhof\n Termin:
 \n Beginn: 02.08.2026\, 11:00 Uhr\n Ende: 02.08.2026\n Link:\n Page détail
 lée
DTSTART;TZID=Europe/Berlin:20260802T110000
DTEND;TZID=Europe/Berlin:20260802T140000
LOCATION:Schwarzwälder Freilichtmuseum Vogtsbauernhof\, Vogtsbauernhof\, 77
 793 Gutach (Schwarzwaldbahn)
SUMMARY:Begegnungen: Rendezvous der Maler\, Schwarzwälder Freilichtmuseum V
 ogtsbauernhof
X-ALT-DESC;FMTTYPE=text/html:<strong>Kurzbeschreibung:</strong><br/>Schwarz
 waldmalerei – die Maler der Region sind zu Gast im Freilichtmuseum Vogtsba
 uernhof<br /><strong>Ort:</strong><br/>Schwarzwälder Freilichtmuseum Vogts
 bauernhof<br/>Vogtsbauernhof\, 77793 Gutach (Schwarzwaldbahn)<br /><strong
 >Veranstalter:</strong><br/>Schwarzwälder Freilichtmuseum Vogtsbauernhof<b
 r /><strong>Termin:</strong><br/>Beginn: 02.08.2026\, 11:00 Uhr<br/>Ende: 
 02.08.2026<br /><strong>Link:</strong><br/><a href='https://ortenaukultur.
 de/fr/evenements/detail/evenement/id/593907-begegnungen-rendezvous-der-mal
 er/?vt=1'>Page détaillée </a>
END:VEVENT
END:VCALENDAR
