BEGIN:VCALENDAR
VERSION:2.0
PRODID:-//ortenaukultur.de//NONSGML kigkonsult.se iCalcreator 2.41.92//
CALSCALE:GREGORIAN
METHOD:PUBLISH
UID:30616432-3737-4537-a265-646234323263
X-WR-TIMEZONE:Europe/Berlin
X-LIC-LOCATION:Europe/Berlin
BEGIN:VEVENT
UID:593909-kulturportal@ortenaukultur.de
DTSTAMP:20260425T115153Z
DESCRIPTION:Kurzbeschreibung:\n Willkommen in den Stuben der 1960er- und 19
 70er-Jahre im Freilichtmuseum Vogtsbauernhof\n Ort:\n Schwarzwälder Freili
 chtmuseum Vogtsbauernhof\n Vogtsbauernhof\, 77793 Gutach (Schwarzwaldbahn)
 \n Veranstalter:\n Schwarzwälder Freilichtmuseum Vogtsbauernhof\n Termin:
 \n Beginn: 13.09.2026\, 11:00 Uhr\n Ende: 13.09.2026\n Link:\n Page détail
 lée
DTSTART;TZID=Europe/Berlin:20260913T110000
DTEND;TZID=Europe/Berlin:20260913T140000
LOCATION:Schwarzwälder Freilichtmuseum Vogtsbauernhof\, Vogtsbauernhof\, 77
 793 Gutach (Schwarzwaldbahn)
SUMMARY:Begegnungen: Willkommen daheim\, Schwarzwälder Freilichtmuseum Vogt
 sbauernhof
X-ALT-DESC;FMTTYPE=text/html:<strong>Kurzbeschreibung:</strong><br/>Willkom
 men in den Stuben der 1960er- und 1970er-Jahre im Freilichtmuseum Vogtsbau
 ernhof<br /><strong>Ort:</strong><br/>Schwarzwälder Freilichtmuseum Vogtsb
 auernhof<br/>Vogtsbauernhof\, 77793 Gutach (Schwarzwaldbahn)<br /><strong>
 Veranstalter:</strong><br/>Schwarzwälder Freilichtmuseum Vogtsbauernhof<br
  /><strong>Termin:</strong><br/>Beginn: 13.09.2026\, 11:00 Uhr<br/>Ende: 1
 3.09.2026<br /><strong>Link:</strong><br/><a href='https://ortenaukultur.d
 e/fr/evenements/detail/evenement/id/593909-begegnungen-willkommen-daheim/?
 vt=1'>Page détaillée </a>
END:VEVENT
END:VCALENDAR
