BEGIN:VCALENDAR
VERSION:2.0
PRODID:-//ortenaukultur.de//NONSGML kigkonsult.se iCalcreator 2.41.92//
CALSCALE:GREGORIAN
METHOD:PUBLISH
UID:30303530-3039-4137-a363-316463666665
X-WR-TIMEZONE:Europe/Berlin
X-LIC-LOCATION:Europe/Berlin
BEGIN:VEVENT
UID:593915-kulturportal@ortenaukultur.de
DTSTAMP:20260421T190650Z
DESCRIPTION:Kurzbeschreibung:\n Malerei und Zeichnung Rainer Braxmaier Einf
 ührung: Galerist Ernst W. Schneider Musik: Akkordeon-Duo Branco Kersic und
  Beatrice Schön\n Ort:\n Foyer Klinik Paul-Gerhardt-Werk\, Louis-Pasteur S
 traße. 12\, Offenburg\n Veranstalter:\n KUNSTkommt\n Termin:\n Beginn: 12.
 05.2026\, 19:00 Uhr\n Ende: 12.05.2026\n Tickets:\n Eintritt frei\n Link:
 \n Page détaillée
DTSTART;TZID=Europe/Berlin:20260512T190000
DTEND;TZID=Europe/Berlin:20260512T220000
LOCATION:Foyer Klinik Paul-Gerhardt-Werk\, Louis-Pasteur Straße. 12\, Offen
 burg
SUMMARY:VERNISSAGE | Rainer Braxmaier | Maßvolle Übertreibung\, Foyer Klini
 k Paul-Gerhardt-Werk\, Louis-Pasteur Straße. 12
X-ALT-DESC;FMTTYPE=text/html:<strong>Kurzbeschreibung:</strong><br/>Malerei
  und Zeichnung\nRainer Braxmaier\nEinführung: \nGalerist Ernst W. Schneide
 r \nMusik:\nAkkordeon-Duo Branco Kersic und Beatrice Schön\n\n\n<br /><str
 ong>Ort:</strong><br/>Foyer Klinik Paul-Gerhardt-Werk\, Louis-Pasteur Stra
 ße. 12\, Offenburg<br /><strong>Veranstalter:</strong><br/>KUNSTkommt<br /
 ><strong>Termin:</strong><br/>Beginn: 12.05.2026\, 19:00 Uhr<br/>Ende: 12.
 05.2026<br /><strong>Tickets: </strong><br/>Eintritt frei<br /><strong>Lin
 k:</strong><br/><a href='https://ortenaukultur.de/fr/evenements/detail/eve
 nement/id/593915-vernissage-rainer-braxmaier-massvolle-uebertreibung/?vt=1
 '>Page détaillée </a>
END:VEVENT
END:VCALENDAR
