BEGIN:VCALENDAR
VERSION:2.0
PRODID:-//ortenaukultur.de//NONSGML kigkonsult.se iCalcreator 2.41.92//
CALSCALE:GREGORIAN
METHOD:PUBLISH
UID:39373262-3736-4035-a361-323833326534
X-WR-TIMEZONE:Europe/Berlin
X-LIC-LOCATION:Europe/Berlin
BEGIN:VEVENT
UID:594053-kulturportal@ortenaukultur.de
DTSTAMP:20260421T201818Z
DESCRIPTION:Kurzbeschreibung:\n Aktionstag rund um Schafhaltung und Schafsc
 hur im Freilichtmuseum Vogtsbauernhof\n Ort:\n Schwarzwälder Freilichtmuse
 um Vogtsbauernhof\n Vogtsbauernhof\, 77793 Gutach (Schwarzwaldbahn)\n Vera
 nstalter:\n Schwarzwälder Freilichtmuseum Vogtsbauernhof\n Termin:\n Begin
 n: 26.04.2026\, 11:00 Uhr\n Ende: 26.04.2026\n Tickets:\n \n https://www.v
 ogtsbauernhof.de/besuch/oeffnungszeiten-preise\n Link:\n Page détaillée
DTSTART;TZID=Europe/Berlin:20260426T110000
DTEND;TZID=Europe/Berlin:20260426T140000
LOCATION:Schwarzwälder Freilichtmuseum Vogtsbauernhof\, Vogtsbauernhof\, 77
 793 Gutach (Schwarzwaldbahn)
SUMMARY:Begegnungen: Von Menschen und Schafen\, Schwarzwälder Freilichtmuse
 um Vogtsbauernhof
X-ALT-DESC;FMTTYPE=text/html:<strong>Kurzbeschreibung:</strong><br/>Aktions
 tag rund um Schafhaltung und Schafschur im Freilichtmuseum Vogtsbauernhof<
 br /><strong>Ort:</strong><br/>Schwarzwälder Freilichtmuseum Vogtsbauernho
 f<br/>Vogtsbauernhof\, 77793 Gutach (Schwarzwaldbahn)<br /><strong>Veranst
 alter:</strong><br/>Schwarzwälder Freilichtmuseum Vogtsbauernhof<br /><str
 ong>Termin:</strong><br/>Beginn: 26.04.2026\, 11:00 Uhr<br/>Ende: 26.04.20
 26<br /><strong>Tickets: </strong><br/><a  class='wco_cb_subtitle_link'  i
 d='ticketlink'  href='https://www.vogtsbauernhof.de/besuch/oeffnungszeiten
 -preise' target='_blank' title='Öffnet externen Link in einem neuen Fenste
 r'></a><br/>https://www.vogtsbauernhof.de/besuch/oeffnungszeiten-preise<br
  /><strong>Link:</strong><br/><a href='https://ortenaukultur.de/fr/eveneme
 nts/detail/evenement/id/594053-begegnungen-von-menschen-und-schafen/?vt=1'
 >Page détaillée </a>
END:VEVENT
END:VCALENDAR
