BEGIN:VCALENDAR
VERSION:2.0
PRODID:-//ortenaukultur.de//NONSGML kigkonsult.se iCalcreator 2.41.92//
CALSCALE:GREGORIAN
METHOD:PUBLISH
UID:66353933-6434-4562-b664-646431396432
X-WR-TIMEZONE:Europe/Berlin
X-LIC-LOCATION:Europe/Berlin
BEGIN:VEVENT
UID:594089-kulturportal@ortenaukultur.de
DTSTAMP:20260422T014447Z
DESCRIPTION:Kurzbeschreibung:\n Ausstellung und Performance Ilse Teipelke z
 eigt neue Arbeiten\, die von ihrem Japanaufenthalt (Oktober 2025) inspirie
 rt sind.\n Blitzinfo:\n Weitere Termine: 9. und 10. Mai (Uhrzeit auf Nachf
 rage)\n Ort:\n Das Kulturhaus Projektraum (3. OG)\n Am Läger 12\, 77694 Ke
 hl\n Veranstalter:\n Kulturbüro Kehl\n Termin:\n Beginn: 08.05.2026\n Ende
 : 08.05.2026\n Tickets:\n Eintritt frei.\n Link:\n Page détaillée
DTSTART;TZID=Europe/Berlin:20260508T000000
DTEND;TZID=Europe/Berlin:20260508T030000
LOCATION:Das Kulturhaus Projektraum (3. OG)\, Am Läger 12\, 77694 Kehl
SUMMARY:Ilse Teipelke – JAPAN & ich\, Das Kulturhaus | Projektraum (3. OG)
X-ALT-DESC;FMTTYPE=text/html:<strong>Kurzbeschreibung:</strong><br/>Ausstel
 lung und Performance\nIlse Teipelke zeigt neue Arbeiten\, die von ihrem Ja
 panaufenthalt (Oktober 2025) inspiriert sind.<br /><strong>Blitzinfo:</str
 ong><br/>Weitere Termine: 9. und 10. Mai (Uhrzeit auf Nachfrage)<br /><str
 ong>Ort:</strong><br/>Das Kulturhaus | Projektraum (3. OG)<br/>Am Läger 12
 \, 77694 Kehl<br /><strong>Veranstalter:</strong><br/>Kulturbüro Kehl<br /
 ><strong>Termin:</strong><br/>Beginn: 08.05.2026<br/>Ende: 08.05.2026<br /
 ><strong>Tickets: </strong><br/>Eintritt frei.<br /><strong>Link:</strong>
 <br/><a href='https://ortenaukultur.de/fr/evenements/detail/evenement/id/5
 94089-ilse-teipelke-japan-ich/?vt=1'>Page détaillée </a>
END:VEVENT
END:VCALENDAR
