BEGIN:VCALENDAR
VERSION:2.0
PRODID:-//ortenaukultur.de//NONSGML kigkonsult.se iCalcreator 2.41.92//
CALSCALE:GREGORIAN
METHOD:PUBLISH
UID:35653062-6433-4133-a137-663531333038
X-WR-TIMEZONE:Europe/Berlin
X-LIC-LOCATION:Europe/Berlin
BEGIN:VEVENT
UID:595008-kulturportal@ortenaukultur.de
DTSTAMP:20260421T231401Z
DESCRIPTION:Kurzbeschreibung:\n Präsentation des aktuellen Albums - Songs a
 nd Lines und durch die Instrumentierung entsteht ein vielschichtiger Klang
 \n Ort:\n KiK - Kultur in der Kaserne\n Weingartenstraße 34 c\, 77654 Offe
 nburg\n Veranstalter:\n KiK - Kultur in der Kaserne\n Termin:\n Beginn: 08
 .05.2026\, 21:00 Uhr\n Ende: 09.05.2026\n Link:\n Page détaillée
DTSTART;TZID=Europe/Berlin:20260508T210000
DTEND;TZID=Europe/Berlin:20260509T000000
LOCATION:KiK - Kultur in der Kaserne\, Weingartenstraße 34 c\, 77654 Offenb
 urg
SUMMARY:Konzert Anne Pe & Band- Lieder mit Ruhe und Kraft\, KiK - Kultur in
  der Kaserne
X-ALT-DESC;FMTTYPE=text/html:<strong>Kurzbeschreibung:</strong><br/>Präsent
 ation des aktuellen Albums -  Songs and Lines und durch die Instrumentieru
 ng entsteht ein vielschichtiger Klang<br /><strong>Ort:</strong><br/>KiK -
  Kultur in der Kaserne<br/>Weingartenstraße 34 c\, 77654 Offenburg<br /><s
 trong>Veranstalter:</strong><br/>KiK - Kultur in der Kaserne<br /><strong>
 Termin:</strong><br/>Beginn: 08.05.2026\, 21:00 Uhr<br/>Ende: 09.05.2026<b
 r /><strong>Link:</strong><br/><a href='https://ortenaukultur.de/fr/evenem
 ents/detail/evenement/id/595008-konzert-anne-pe-band-lieder-mit-ruhe-und-k
 raft/?vt=1'>Page détaillée </a>
END:VEVENT
END:VCALENDAR
