BEGIN:VCALENDAR
VERSION:2.0
PRODID:-//ortenaukultur.de//NONSGML kigkonsult.se iCalcreator 2.41.92//
CALSCALE:GREGORIAN
METHOD:PUBLISH
UID:32643365-6435-4266-a662-353638363139
X-WR-TIMEZONE:Europe/Berlin
X-LIC-LOCATION:Europe/Berlin
BEGIN:VEVENT
UID:595013-kulturportal@ortenaukultur.de
DTSTAMP:20260422T054559Z
DESCRIPTION:Kurzbeschreibung:\n Hommage ans Kino - Film von Wim Wenders. Dr
 eharbeiten zu einem schwarz- weißen Film in Portugal\n Ort:\n KiK - Kultur
  in der Kaserne\n Weingartenstraße 34 c\, 77654 Offenburg\n Veranstalter:
 \n KiK - Kultur in der Kaserne\n Termin:\n Beginn: 30.05.2026\, 20:00 Uhr
 \n Ende: 30.05.2026\n Link:\n Page détaillée
DTSTART;TZID=Europe/Berlin:20260530T200000
DTEND;TZID=Europe/Berlin:20260530T230000
LOCATION:KiK - Kultur in der Kaserne\, Weingartenstraße 34 c\, 77654 Offenb
 urg
SUMMARY:40 Jahre Kommunales Kino:  Stand der Dinge\, KiK - Kultur in der Ka
 serne
X-ALT-DESC;FMTTYPE=text/html:<strong>Kurzbeschreibung:</strong><br/>Hommage
  ans Kino - Film von Wim Wenders. Dreharbeiten zu einem schwarz- weißen Fi
 lm in Portugal<br /><strong>Ort:</strong><br/>KiK - Kultur in der Kaserne<
 br/>Weingartenstraße 34 c\, 77654 Offenburg<br /><strong>Veranstalter:</st
 rong><br/>KiK - Kultur in der Kaserne<br /><strong>Termin:</strong><br/>Be
 ginn: 30.05.2026\, 20:00 Uhr<br/>Ende: 30.05.2026<br /><strong>Link:</stro
 ng><br/><a href='https://ortenaukultur.de/fr/evenements/detail/evenement/i
 d/595013-40-jahre-kommunales-kino-stand-der-dinge/?vt=1'>Page détaillée </
 a>
END:VEVENT
END:VCALENDAR
