BEGIN:VCALENDAR
VERSION:2.0
PRODID:-//ortenaukultur.de//NONSGML kigkonsult.se iCalcreator 2.41.92//
CALSCALE:GREGORIAN
METHOD:PUBLISH
UID:35363130-3231-4334-a266-393533393438
X-WR-TIMEZONE:Europe/Berlin
X-LIC-LOCATION:Europe/Berlin
BEGIN:VEVENT
UID:595016-kulturportal@ortenaukultur.de
DTSTAMP:20260422T045619Z
DESCRIPTION:Kurzbeschreibung:\n Kilgus und Kraus. Schluss mit Lustig ! Info
 tainment mit musikalischer Begleitung am Klavier.\n Ort:\n Reithalle im Ku
 lturforum\n Moltkestraße 31\, 77654 Offenburg\n Veranstalter:\n Kulturbüro
  Offenburg\n Termin:\n Beginn: 05.03.2027\, 20:00 Uhr\n Ende: 05.03.2027\n
  Tickets:\n Achat de billets\n https://ortenaukultur.reservix.de/p/reservi
 x/event/2552681\n 1. Kategorie:\n jusqu'à 25\,20 € + Réduction\n *Toute ta
 xe comprise\n \n Link:\n Page détaillée
DTSTART;TZID=Europe/Berlin:20270305T200000
DTEND;TZID=Europe/Berlin:20270305T230000
LOCATION:Reithalle im Kulturforum\, Moltkestraße 31\, 77654 Offenburg
SUMMARY:Schluss mit lustig !\, Reithalle im Kulturforum
X-ALT-DESC;FMTTYPE=text/html:<strong>Kurzbeschreibung:</strong><br/>Kilgus 
 und Kraus. Schluss mit Lustig ! Infotainment mit musikalischer Begleitung 
 am Klavier. \n<br /><strong>Ort:</strong><br/>Reithalle im Kulturforum<br/
 >Moltkestraße 31\, 77654 Offenburg<br /><strong>Veranstalter:</strong><br/
 >Kulturbüro Offenburg<br /><strong>Termin:</strong><br/>Beginn: 05.03.2027
 \, 20:00 Uhr<br/>Ende: 05.03.2027<br /><strong>Tickets: </strong><br/><a r
 el='asdf' href='https://ortenaukultur.de/fr/detail/billets/id/595016-schlu
 ss-mit-lustig/?follow=https%253A%252F%252Fortenaukultur.reservix.de%252Fp%
 252Freservix%252Fevent%252F2552681' target='_blank' title='' id='ticketlin
 k'>Achat de billets</a><br/>https://ortenaukultur.reservix.de/p/reservix/e
 vent/2552681<br/><b>1. Kategorie: </b><br />jusqu&#039\;à 25\,20 &euro\;&n
 bsp\; + Réduction<br />*Toute taxe comprise<br /><br /><strong>Link:</stro
 ng><br/><a href='https://ortenaukultur.de/fr/evenements/detail/evenement/i
 d/595016-schluss-mit-lustig/?vt=1'>Page détaillée </a>
END:VEVENT
END:VCALENDAR
