BEGIN:VCALENDAR
VERSION:2.0
PRODID:-//ortenaukultur.de//NONSGML kigkonsult.se iCalcreator 2.41.92//
CALSCALE:GREGORIAN
METHOD:PUBLISH
UID:61663839-3236-4538-a166-623036383135
X-WR-TIMEZONE:Europe/Berlin
X-LIC-LOCATION:Europe/Berlin
BEGIN:VEVENT
UID:595250-kulturportal@ortenaukultur.de
DTSTAMP:20260422T184711Z
DESCRIPTION:Kurzbeschreibung:\n Das Kulturbüro Offenburg lädt zum Abo-Info-
 Abend und präsentiert die Abo-Saison 26/27 mit Vorstellungen im Bereich Th
 eater\, Tanz und Oberrhein-Konzert-Reihe.\n Ort:\n Reithalle im Kulturforu
 m\n Moltkestraße 31\, 77654 Offenburg\n Veranstalter:\n Kulturbüro Offenbu
 rg\n Termin:\n Beginn: 06.05.2026\, 20:00 Uhr\n Ende: 06.05.2026\n Link:\n
  Page détaillée
DTSTART;TZID=Europe/Berlin:20260506T200000
DTEND;TZID=Europe/Berlin:20260506T230000
LOCATION:Reithalle im Kulturforum\, Moltkestraße 31\, 77654 Offenburg
SUMMARY:Abo-Info-Abend\, Reithalle im Kulturforum
X-ALT-DESC;FMTTYPE=text/html:<strong>Kurzbeschreibung:</strong><br/>Das Kul
 turbüro Offenburg lädt zum Abo-Info-Abend und präsentiert die Abo-Saison 2
 6/27 mit Vorstellungen im Bereich Theater\, Tanz und Oberrhein-Konzert-Rei
 he.<br /><strong>Ort:</strong><br/>Reithalle im Kulturforum<br/>Moltkestra
 ße 31\, 77654 Offenburg<br /><strong>Veranstalter:</strong><br/>Kulturbüro
  Offenburg<br /><strong>Termin:</strong><br/>Beginn: 06.05.2026\, 20:00 Uh
 r<br/>Ende: 06.05.2026<br /><strong>Link:</strong><br/><a href='https://or
 tenaukultur.de/fr/evenements/detail/evenement/id/595250-abo-info-abend/?vt
 =1'>Page détaillée </a>
END:VEVENT
END:VCALENDAR
