BEGIN:VCALENDAR
VERSION:2.0
PRODID:-//ortenaukultur.de//NONSGML kigkonsult.se iCalcreator 2.41.92//
CALSCALE:GREGORIAN
METHOD:PUBLISH
UID:39653961-3361-4465-b862-383136633365
X-WR-TIMEZONE:Europe/Berlin
X-LIC-LOCATION:Europe/Berlin
BEGIN:VEVENT
UID:595273-kulturportal@ortenaukultur.de
DTSTAMP:20260423T013019Z
DESCRIPTION:Kurzbeschreibung:\n Unter dem Motto „Wald und Landschaft um die
  Moos- früher\, heute und in Zukunft“\n Ort:\n Treffpunkt Parkplatz an der
  Kinzigtalhalle\, Gengenbach\n Veranstalter:\n Wald-Holz-Flößermuseum\n Te
 rmin:\n Beginn: 24.04.2026\, 16:00 Uhr\n Ende: 24.04.2026\n Tickets:\n Die
  Fahrt kostet 12 €.\n \n Anmeldungen sind per mail ( mail@wald-holz-floess
 ermuseum.de oder telefonisch unter 01714776603 möglich)\n \n Link:\n Page 
 détaillée
DTSTART;TZID=Europe/Berlin:20260424T160000
DTEND;TZID=Europe/Berlin:20260424T190000
LOCATION:Treffpunkt Parkplatz an der Kinzigtalhalle\, Gengenbach
SUMMARY:Moosfahrt mit dem Omnibus \, Treffpunkt Parkplatz an der Kinzigtalh
 alle
X-ALT-DESC;FMTTYPE=text/html:<strong>Kurzbeschreibung:</strong><br/>Unter d
 em Motto „Wald und Landschaft um die Moos- früher\, heute und in Zukunft“<
 br /><strong>Ort:</strong><br/>Treffpunkt Parkplatz an der Kinzigtalhalle\
 , Gengenbach<br /><strong>Veranstalter:</strong><br/>Wald-Holz-Flößermuseu
 m<br /><strong>Termin:</strong><br/>Beginn: 24.04.2026\, 16:00 Uhr<br/>End
 e: 24.04.2026<br /><strong>Tickets: </strong><br/>Die Fahrt kostet 12 €.<b
 r />\n<br />\nAnmeldungen sind per mail ( mail@wald-holz-floessermuseum.de
  oder telefonisch unter 01714776603 möglich)<br />\n<br /><strong>Link:</s
 trong><br/><a href='https://ortenaukultur.de/fr/evenements/detail/evenemen
 t/id/595273-moosfahrt-mit-dem-omnibus/?vt=1'>Page détaillée </a>
END:VEVENT
END:VCALENDAR
