BEGIN:VCALENDAR
VERSION:2.0
PRODID:-//ortenaukultur.de//NONSGML kigkonsult.se iCalcreator 2.41.92//
CALSCALE:GREGORIAN
METHOD:PUBLISH
UID:33613338-3139-4863-a462-303230616661
X-WR-TIMEZONE:Europe/Berlin
X-LIC-LOCATION:Europe/Berlin
BEGIN:VEVENT
UID:536608-kulturportal@ortenaukultur.de
DTSTAMP:20260422T225224Z
DESCRIPTION:Kurzbeschreibung:\n Weinstadt Offenburg - erleben und genießen.
  Die Offenburger Stadtgeschichte ist seit jeher eng mit dem Wein verbunden
 .\n Ort:\n Innenstadt\n Hauptstrasse\, 77654 Offenburg\n Veranstalter:\n S
 tadt Offenburg - Stadtmarketing\n Termin:\n Beginn: 15.08.2026\n Ende: 15.
 08.2026\n Tickets:\n 17 Euro pro Person. Kein Ausschank an Personen unter 
 16 Jahren.\n Link:\n Page détaillée
DTSTART;TZID=Europe/Berlin:20260815T000000
DTEND;TZID=Europe/Berlin:20260815T030000
LOCATION:Innenstadt\, Hauptstrasse\, 77654 Offenburg
SUMMARY:Weinstadtführungen\, Offenburg
X-ALT-DESC;FMTTYPE=text/html:<strong>Kurzbeschreibung:</strong><br/>Weinsta
 dt Offenburg - erleben und genießen.  Die Offenburger Stadtgeschichte ist 
 seit jeher eng mit dem Wein verbunden.\n\n<br /><strong>Ort:</strong><br/>
 Innenstadt<br/>Hauptstrasse\, 77654 Offenburg<br /><strong>Veranstalter:</
 strong><br/>Stadt Offenburg - Stadtmarketing<br /><strong>Termin:</strong>
 <br/>Beginn: 15.08.2026<br/>Ende: 15.08.2026<br /><strong>Tickets: </stron
 g><br/>17 Euro pro Person. Kein Ausschank an Personen unter 16 Jahren.<br 
 /><strong>Link:</strong><br/><a href='https://ortenaukultur.de/fr/evenemen
 ts/detail/evenement/id/536608-weinstadtfuehrungen/?vt=1'>Page détaillée </
 a>
END:VEVENT
END:VCALENDAR
