BEGIN:VCALENDAR
VERSION:2.0
PRODID:-//ortenaukultur.de//NONSGML kigkonsult.se iCalcreator 2.41.92//
CALSCALE:GREGORIAN
METHOD:PUBLISH
UID:32616266-3663-4330-b263-336238616238
X-WR-TIMEZONE:Europe/Berlin
X-LIC-LOCATION:Europe/Berlin
BEGIN:VEVENT
UID:557519-kulturportal@ortenaukultur.de
DTSTAMP:20260422T224957Z
DESCRIPTION:Kurzbeschreibung:\n Die Stadtkapelle Gengenbach unter der Leitu
 ng von Felix Bauert lädt herzlich ein zum Kurkonzert auf dem Gengenbacher 
 Marktplatz.\n Ort:\n Historischer Marktplatz Gengenbach\n Hauptstr.\, 7772
 3 Gengenbach\n Veranstalter:\n Stadtkapelle Gengenbach\n Termin:\n Beginn:
  31.07.2026\, 19:00 Uhr\n Ende: 31.07.2026\n Link:\n Page détaillée
DTSTART;TZID=Europe/Berlin:20260731T190000
DTEND;TZID=Europe/Berlin:20260731T220000
LOCATION:Historischer Marktplatz Gengenbach\, Hauptstr.\, 77723 Gengenbach
SUMMARY:Kurkonzert der Stadtkapelle Gengenbach\, Historischer Marktplatz Ge
 ngenbach
X-ALT-DESC;FMTTYPE=text/html:<strong>Kurzbeschreibung:</strong><br/>Die Sta
 dtkapelle Gengenbach unter der Leitung von Felix Bauert lädt herzlich ein 
 zum Kurkonzert auf dem Gengenbacher Marktplatz.<br /><strong>Ort:</strong>
 <br/>Historischer Marktplatz Gengenbach<br/>Hauptstr.\, 77723 Gengenbach<b
 r /><strong>Veranstalter:</strong><br/>Stadtkapelle Gengenbach<br /><stron
 g>Termin:</strong><br/>Beginn: 31.07.2026\, 19:00 Uhr<br/>Ende: 31.07.2026
 <br /><strong>Link:</strong><br/><a href='https://ortenaukultur.de/fr/even
 ements/detail/evenement/id/557519-kurkonzert-der-stadtkapelle-gengenbach/?
 vt=1'>Page détaillée </a>
END:VEVENT
END:VCALENDAR
