BEGIN:VCALENDAR
VERSION:2.0
PRODID:-//ortenaukultur.de//NONSGML kigkonsult.se iCalcreator 2.41.92//
CALSCALE:GREGORIAN
METHOD:PUBLISH
UID:66326163-6536-4734-a661-616131656364
X-WR-TIMEZONE:Europe/Berlin
X-LIC-LOCATION:Europe/Berlin
BEGIN:VEVENT
UID:558702-kulturportal@ortenaukultur.de
DTSTAMP:20260421T191952Z
DESCRIPTION:Kurzbeschreibung:\n Verschiedene Künstler:innen interpretieren 
 das Lahrer Raumwunder 2026 gestalterisch und literarisch und präsentieren 
 ihr Raumwunder im Foyer des Stadtmuseums.\n Ort:\n Stadtmuseum Lahr - Eing
 ang\n Kreuzstraße 6\, 77933 Lahr\n Veranstalter:\n Stadtmuseum Lahr\n Term
 in:\n Beginn: 01.01.2026\, 11:00 Uhr\n Ende: 01.01.2026\n Tickets:\n koste
 nfrei\n Link:\n Page détaillée
DTSTART;TZID=Europe/Berlin:20260101T110000
DTEND;TZID=Europe/Berlin:20260101T140000
LOCATION:Stadtmuseum Lahr - Eingang\, Kreuzstraße 6\, 77933 Lahr
SUMMARY:Raumwunder des Monats Teil II\, Stadtmuseum Lahr - Eingang
X-ALT-DESC;FMTTYPE=text/html:<strong>Kurzbeschreibung:</strong><br/>Verschi
 edene Künstler:innen interpretieren das Lahrer Raumwunder 2026 gestalteris
 ch und literarisch und präsentieren ihr Raumwunder im Foyer des Stadtmuseu
 ms.<br /><strong>Ort:</strong><br/>Stadtmuseum Lahr - Eingang<br/>Kreuzstr
 aße 6\, 77933 Lahr<br /><strong>Veranstalter:</strong><br/>Stadtmuseum Lah
 r<br /><strong>Termin:</strong><br/>Beginn: 01.01.2026\, 11:00 Uhr<br/>End
 e: 01.01.2026<br /><strong>Tickets: </strong><br/>kostenfrei<br /><strong>
 Link:</strong><br/><a href='https://ortenaukultur.de/fr/evenements/detail/
 evenement/id/558702-raumwunder-des-monats-teil-ii/?vt=1'>Page détaillée </
 a>
END:VEVENT
END:VCALENDAR
