BEGIN:VCALENDAR
VERSION:2.0
PRODID:-//ortenaukultur.de//NONSGML kigkonsult.se iCalcreator 2.41.92//
CALSCALE:GREGORIAN
METHOD:PUBLISH
UID:33613466-6532-4033-b439-316436363866
X-WR-TIMEZONE:Europe/Berlin
X-LIC-LOCATION:Europe/Berlin
BEGIN:VEVENT
UID:568958-kulturportal@ortenaukultur.de
DTSTAMP:20260423T001530Z
DESCRIPTION:Kurzbeschreibung:\n Ein außergewöhnliches multimediales Theater
 erlebnis in einer Bearbeitung von Robert Louis Stevenson.\n Ort:\n Parkthe
 ater\n Kaiserstraße 107\, 77933 Lahr\n Veranstalter:\n LahrKultur\n Termin
 :\n Beginn: 09.05.2026\, 20:00 Uhr\n Ende: 09.05.2026\n Tickets:\n Achat d
 e billets\n https://ortenaukultur.reservix.de/p/reservix/event/2422746\n 1
 . Kategorie:\n jusqu'à 25\,20 € + Réduction\n 2. Kategorie:\n jusqu'à 20\,
 80 € + Réduction\n 3. Kategorie:\n jusqu'à 15\,30 € + Réduction\n 4. Kateg
 orie:\n jusqu'à 12\,00 € + Réduction\n *Toute taxe comprise\n \n Link:\n P
 age détaillée
DTSTART;TZID=Europe/Berlin:20260509T200000
DTEND;TZID=Europe/Berlin:20260509T230000
LOCATION:Parktheater\, Kaiserstraße 107\, 77933 Lahr
SUMMARY:Der seltsame Fall des Dr. Jekyll & Mr. Hyde\, Parktheater
X-ALT-DESC;FMTTYPE=text/html:<strong>Kurzbeschreibung:</strong><br/>Ein auß
 ergewöhnliches multimediales Theatererlebnis in einer Bearbeitung von Robe
 rt Louis Stevenson.<br /><strong>Ort:</strong><br/>Parktheater<br/>Kaisers
 traße 107\, 77933 Lahr<br /><strong>Veranstalter:</strong><br/>LahrKultur<
 br /><strong>Termin:</strong><br/>Beginn: 09.05.2026\, 20:00 Uhr<br/>Ende:
  09.05.2026<br /><strong>Tickets: </strong><br/><a rel='asdf' href='https:
 //ortenaukultur.de/fr/evenements/detail/billets/id/568958-der-seltsame-fal
 l-des-dr-jekyll-mr-hyde/?follow=https%253A%252F%252Fortenaukultur.reservix
 .de%252Fp%252Freservix%252Fevent%252F2422746' target='_blank' title='' id=
 'ticketlink'>Achat de billets</a><br/>https://ortenaukultur.reservix.de/p/
 reservix/event/2422746<br/><b>1. Kategorie: </b><br />jusqu&#039\;à 25\,20
  &euro\;&nbsp\; + Réduction<br /><b>2. Kategorie: </b><br />jusqu&#039\;à 
 20\,80 &euro\;&nbsp\; + Réduction<br /><b>3. Kategorie: </b><br />jusqu&#0
 39\;à 15\,30 &euro\;&nbsp\; + Réduction<br /><b>4. Kategorie: </b><br />ju
 squ&#039\;à 12\,00 &euro\;&nbsp\; + Réduction<br />*Toute taxe comprise<br
  /><br /><strong>Link:</strong><br/><a href='https://ortenaukultur.de/fr/e
 venements/detail/evenement/id/568958-der-seltsame-fall-des-dr-jekyll-mr-hy
 de/?vt=1'>Page détaillée </a>
END:VEVENT
END:VCALENDAR
