BEGIN:VCALENDAR
VERSION:2.0
PRODID:-//ortenaukultur.de//NONSGML kigkonsult.se iCalcreator 2.41.92//
CALSCALE:GREGORIAN
METHOD:PUBLISH
UID:39616530-3366-4339-b263-383239633761
X-WR-TIMEZONE:Europe/Berlin
X-LIC-LOCATION:Europe/Berlin
BEGIN:VEVENT
UID:572793-kulturportal@ortenaukultur.de
DTSTAMP:20260421T212549Z
DESCRIPTION:Kurzbeschreibung:\n Solostück mit Gilla Cremer\, begleitet von 
 ihrem erstklassigen Cellisten Patrick Cybinski\, der ihre innere Stimme in
  Musik übersetzt.\n Ort:\n Oberrheinhalle\n Schutterwälder Straße\, Messeg
 elände\, 77656 Offenburg\n Veranstalter:\n Kulturbüro Offenburg\n Termin:
 \n Beginn: 22.04.2026\, 20:00 Uhr\n Ende: 22.04.2026\n Tickets:\n Achat de
  billets\n https://ortenaukultur.reservix.de/p/reservix/event/2377854\n 1.
  Kategorie:\n jusqu'à 27\,40 € + Réduction\n 2. Kategorie:\n jusqu'à 25\,2
 0 € + Réduction\n 3. Kategorie:\n jusqu'à 23\,00 € + Réduction\n *Toute ta
 xe comprise\n \n Link:\n Page détaillée
DTSTART;TZID=Europe/Berlin:20260422T200000
DTEND;TZID=Europe/Berlin:20260422T230000
LOCATION:Oberrheinhalle\, Schutterwälder Straße\, Messegelände\, 77656 Offe
 nburg
SUMMARY:Oberrhein Theaterreihe - Gilla Cremer - Meeresrand\, Oberrheinhalle
X-ALT-DESC;FMTTYPE=text/html:<strong>Kurzbeschreibung:</strong><br/>Solostü
 ck mit Gilla Cremer\, begleitet von ihrem erstklassigen Cellisten Patrick 
 Cybinski\,\nder ihre innere Stimme in Musik übersetzt.\n<br /><strong>Ort:
 </strong><br/>Oberrheinhalle<br/>Schutterwälder Straße\, Messegelände\, 77
 656 Offenburg<br /><strong>Veranstalter:</strong><br/>Kulturbüro Offenburg
 <br /><strong>Termin:</strong><br/>Beginn: 22.04.2026\, 20:00 Uhr<br/>Ende
 : 22.04.2026<br /><strong>Tickets: </strong><br/><a rel='asdf' href='https
 ://ortenaukultur.de/fr/evenements/detail/billets/id/572793-oberrhein-theat
 erreihe-gilla-cremer-meeresrand/?follow=https%253A%252F%252Fortenaukultur.
 reservix.de%252Fp%252Freservix%252Fevent%252F2377854' target='_blank' titl
 e='' id='ticketlink'>Achat de billets</a><br/>https://ortenaukultur.reserv
 ix.de/p/reservix/event/2377854<br/><b>1. Kategorie: </b><br />jusqu&#039\;
 à 27\,40 &euro\;&nbsp\; + Réduction<br /><b>2. Kategorie: </b><br />jusqu&
 #039\;à 25\,20 &euro\;&nbsp\; + Réduction<br /><b>3. Kategorie: </b><br />
 jusqu&#039\;à 23\,00 &euro\;&nbsp\; + Réduction<br />*Toute taxe comprise<
 br /><br /><strong>Link:</strong><br/><a href='https://ortenaukultur.de/fr
 /evenements/detail/evenement/id/572793-oberrhein-theaterreihe-gilla-cremer
 -meeresrand/?vt=1'>Page détaillée </a>
END:VEVENT
END:VCALENDAR
