BEGIN:VCALENDAR
VERSION:2.0
PRODID:-//ortenaukultur.de//NONSGML kigkonsult.se iCalcreator 2.41.92//
CALSCALE:GREGORIAN
METHOD:PUBLISH
UID:30343632-3862-4366-a562-643964343362
X-WR-TIMEZONE:Europe/Berlin
X-LIC-LOCATION:Europe/Berlin
BEGIN:VEVENT
UID:576246-kulturportal@ortenaukultur.de
DTSTAMP:20260421T205742Z
DESCRIPTION:Kurzbeschreibung:\n Kunstkurs für Erwachsene im Atelier der Kun
 stschule Offenburg im Kulturhaus Kehl\n Ort:\n Atelier im Kulturhaus Kehl\
 , Am Läger 12\, 77694\, Kehl\n Veranstalter:\n KUNSTSCHULE Offenburg\n Ter
 min:\n Beginn: 11.10.2025\, 10:00 Uhr\n Ende: 11.10.2025\n Link:\n Page dé
 taillée
DTSTART;TZID=Europe/Berlin:20251011T100000
DTEND;TZID=Europe/Berlin:20251011T130000
LOCATION:Atelier im Kulturhaus Kehl\, Am Läger 12\, 77694\, Kehl
SUMMARY:Studium Grafik und Objektkunst\, Atelier im Kulturhaus Kehl\, Am Lä
 ger 12\, 77694
X-ALT-DESC;FMTTYPE=text/html:<strong>Kurzbeschreibung:</strong><br/>Kunstku
 rs für Erwachsene im Atelier der Kunstschule Offenburg im Kulturhaus Kehl 
 <br /><strong>Ort:</strong><br/>Atelier im Kulturhaus Kehl\, Am Läger 12\,
  77694\, Kehl<br /><strong>Veranstalter:</strong><br/>KUNSTSCHULE Offenbur
 g<br /><strong>Termin:</strong><br/>Beginn: 11.10.2025\, 10:00 Uhr<br/>End
 e: 11.10.2025<br /><strong>Link:</strong><br/><a href='https://ortenaukult
 ur.de/fr/evenements/detail/evenement/id/576246-studium-grafik-und-objektku
 nst/?vt=1'>Page détaillée </a>
END:VEVENT
END:VCALENDAR
