BEGIN:VCALENDAR
VERSION:2.0
PRODID:-//ortenaukultur.de//NONSGML kigkonsult.se iCalcreator 2.41.92//
CALSCALE:GREGORIAN
METHOD:PUBLISH
UID:31376233-3639-4164-b435-306235323732
X-WR-TIMEZONE:Europe/Berlin
X-LIC-LOCATION:Europe/Berlin
BEGIN:VEVENT
UID:576266-kulturportal@ortenaukultur.de
DTSTAMP:20260422T004405Z
DESCRIPTION:Kurzbeschreibung:\n Volksfest Willstätter Jahrmarkt mit Bauern-
  und Kreativmarkt\, Bühnenprogramm\, Live-Musik\, Schlemmermeile\, Vergnüg
 ungspark\, uvm.\n Ort:\n Mühlplatz\n Am Mühlplatz 1\, 77731 Willstätt\n Ve
 ranstalter:\n Gemeinde Willstätt\n Termin:\n Beginn: 18.09.2026\, 18:00 Uh
 r\n Ende: 18.09.2026\n Link:\n Page détaillée
DTSTART;TZID=Europe/Berlin:20260918T180000
DTEND;TZID=Europe/Berlin:20260918T210000
LOCATION:Mühlplatz\, Am Mühlplatz 1\, 77731 Willstätt
SUMMARY:Volksfest Willstätter Jahrmarkt\, Mühlplatz
X-ALT-DESC;FMTTYPE=text/html:<strong>Kurzbeschreibung:</strong><br/>Volksfe
 st Willstätter Jahrmarkt mit Bauern- und Kreativmarkt\, Bühnenprogramm\, L
 ive-Musik\, Schlemmermeile\, Vergnügungspark\, uvm. <br /><strong>Ort:</st
 rong><br/>Mühlplatz<br/>Am Mühlplatz 1\, 77731 Willstätt<br /><strong>Vera
 nstalter:</strong><br/>Gemeinde Willstätt<br /><strong>Termin:</strong><br
 />Beginn: 18.09.2026\, 18:00 Uhr<br/>Ende: 18.09.2026<br /><strong>Link:</
 strong><br/><a href='https://ortenaukultur.de/fr/evenements/detail/eveneme
 nt/id/576266-volksfest-willstaetter-jahrmarkt/?vt=1'>Page détaillée </a>
END:VEVENT
END:VCALENDAR
