BEGIN:VCALENDAR
VERSION:2.0
PRODID:-//ortenaukultur.de//NONSGML kigkonsult.se iCalcreator 2.41.92//
CALSCALE:GREGORIAN
METHOD:PUBLISH
UID:31373836-3165-4535-b430-386235643835
X-WR-TIMEZONE:Europe/Berlin
X-LIC-LOCATION:Europe/Berlin
BEGIN:VEVENT
UID:579369-kulturportal@ortenaukultur.de
DTSTAMP:20260422T224757Z
DESCRIPTION:Kurzbeschreibung:\n Die Messe Impuls läuft parallel zum Familie
 nsonntag von 11.00 - 18.00 Uhr in der Stadthalle.\n Ort:\n Stadthalle\n Ha
 uptstraße 1a\, 77716 Haslach\n Veranstalter:\n Handels- und Gewerbeverein 
 Haslach e.V.\n Termin:\n Beginn: 11.10.2026\, 11:00 Uhr\n Ende: 11.10.2026
 \n Link:\n Page détaillée
DTSTART;TZID=Europe/Berlin:20261011T110000
DTEND;TZID=Europe/Berlin:20261011T140000
LOCATION:Stadthalle\, Hauptstraße 1a\, 77716 Haslach
SUMMARY:Messe Impuls\, Stadthalle
X-ALT-DESC;FMTTYPE=text/html:<strong>Kurzbeschreibung:</strong><br/>Die Mes
 se Impuls läuft parallel zum Familiensonntag von 11.00 - 18.00 Uhr in der 
 Stadthalle. <br /><strong>Ort:</strong><br/>Stadthalle<br/>Hauptstraße 1a\
 , 77716 Haslach<br /><strong>Veranstalter:</strong><br/>Handels- und Gewer
 beverein Haslach e.V.<br /><strong>Termin:</strong><br/>Beginn: 11.10.2026
 \, 11:00 Uhr<br/>Ende: 11.10.2026<br /><strong>Link:</strong><br/><a href=
 'https://ortenaukultur.de/fr/evenements/detail/evenement/id/579369-messe-i
 mpuls/?vt=1'>Page détaillée </a>
END:VEVENT
END:VCALENDAR
