BEGIN:VCALENDAR
VERSION:2.0
PRODID:-//ortenaukultur.de//NONSGML kigkonsult.se iCalcreator 2.41.92//
CALSCALE:GREGORIAN
METHOD:PUBLISH
UID:31383037-3566-4431-a633-353134366536
X-WR-TIMEZONE:Europe/Berlin
X-LIC-LOCATION:Europe/Berlin
BEGIN:VEVENT
UID:580152-kulturportal@ortenaukultur.de
DTSTAMP:20260422T223253Z
DESCRIPTION:Kurzbeschreibung:\n Buntes Markttreiben mit zahlreichen Buden\,
  Ständen und viele Beschicker\, zudem geöffnete Geschäften am Samstag und 
 Sonntag. Freunde und Familie treffen.\n Ort:\n Innenstadt Ettenheim\, Ette
 nheim\n Veranstalter:\n Stadt Ettenheim (AS)\n Termin:\n Beginn: 07.11.202
 6\, 08:00 Uhr\n Ende: 07.11.2026\n Link:\n Page détaillée
DTSTART;TZID=Europe/Berlin:20261107T080000
DTEND;TZID=Europe/Berlin:20261107T110000
LOCATION:Innenstadt Ettenheim\, Ettenheim
SUMMARY:Martinimarkt in Ettenheim\, Innenstadt Ettenheim
X-ALT-DESC;FMTTYPE=text/html:<strong>Kurzbeschreibung:</strong><br/>Buntes 
 Markttreiben mit zahlreichen Buden\, Ständen und viele Beschicker\, zudem 
 geöffnete Geschäften am Samstag und Sonntag. Freunde und Familie treffen.<
 br /><strong>Ort:</strong><br/>Innenstadt Ettenheim\, Ettenheim<br /><stro
 ng>Veranstalter:</strong><br/>Stadt Ettenheim (AS)<br /><strong>Termin:</s
 trong><br/>Beginn: 07.11.2026\, 08:00 Uhr<br/>Ende: 07.11.2026<br /><stron
 g>Link:</strong><br/><a href='https://ortenaukultur.de/fr/evenements/detai
 l/evenement/id/580152-martinimarkt-in-ettenheim/?vt=1'>Page détaillée </a>
END:VEVENT
END:VCALENDAR
