BEGIN:VCALENDAR
VERSION:2.0
PRODID:-//ortenaukultur.de//NONSGML kigkonsult.se iCalcreator 2.41.92//
CALSCALE:GREGORIAN
METHOD:PUBLISH
UID:63316431-6364-4132-b939-333366343064
X-WR-TIMEZONE:Europe/Berlin
X-LIC-LOCATION:Europe/Berlin
BEGIN:VEVENT
UID:582120-kulturportal@ortenaukultur.de
DTSTAMP:20260422T022126Z
DESCRIPTION:Kurzbeschreibung:\n Eine Veranstaltung des Kommunalen Kinos Obe
 rkirch in Kooperation mit der Demenzagentur\n Ort:\n Veranstaltungsraum Me
 diathek\n Hauptstraße 12\, 77704 Oberkirch\n Veranstalter:\n Kommunales Ki
 no Oberkirch\n Termin:\n Beginn: 05.05.2026\, 20:00 Uhr\n Ende: 05.05.2026
 \n Link:\n Page détaillée
DTSTART;TZID=Europe/Berlin:20260505T200000
DTEND;TZID=Europe/Berlin:20260505T230000
LOCATION:Veranstaltungsraum Mediathek\, Hauptstraße 12\, 77704 Oberkirch
SUMMARY:Kommunales Kino: Romys Salon\, Veranstaltungsraum Mediathek
X-ALT-DESC;FMTTYPE=text/html:<strong>Kurzbeschreibung:</strong><br/>Eine Ve
 ranstaltung des Kommunalen Kinos Oberkirch in Kooperation mit der Demenzag
 entur<br /><strong>Ort:</strong><br/>Veranstaltungsraum Mediathek<br/>Haup
 tstraße 12\, 77704 Oberkirch<br /><strong>Veranstalter:</strong><br/>Kommu
 nales Kino Oberkirch<br /><strong>Termin:</strong><br/>Beginn: 05.05.2026\
 , 20:00 Uhr<br/>Ende: 05.05.2026<br /><strong>Link:</strong><br/><a href='
 https://ortenaukultur.de/fr/evenements/detail/evenement/id/582120-kommunal
 es-kino-romys-salon/?vt=1'>Page détaillée </a>
END:VEVENT
END:VCALENDAR
