BEGIN:VCALENDAR
VERSION:2.0
PRODID:-//ortenaukultur.de//NONSGML kigkonsult.se iCalcreator 2.41.92//
CALSCALE:GREGORIAN
METHOD:PUBLISH
UID:34363834-3163-4833-b832-393237656438
X-WR-TIMEZONE:Europe/Berlin
X-LIC-LOCATION:Europe/Berlin
BEGIN:VEVENT
UID:582783-kulturportal@ortenaukultur.de
DTSTAMP:20260421T192438Z
DESCRIPTION:Kurzbeschreibung:\n Traditionelle und moderne Musikstücke versp
 rechen einen ganz besonderen Abend. Veranstaltungsraum Haus 2\, Etage 4. B
 ei gutem Wetter auf der Terrasse.\n Ort:\n Winkelwaldklinik Nordrach\n Win
 kelwald 1\, 77787 Nordrach\n Veranstalter:\n Trachtenkapelle Nordrach e.V.
 \n Termin:\n Beginn: 22.04.2026\, 19:00 Uhr\n Ende: 22.04.2026\n Link:\n P
 age détaillée
DTSTART;TZID=Europe/Berlin:20260422T190000
DTEND;TZID=Europe/Berlin:20260422T220000
LOCATION:Winkelwaldklinik Nordrach\, Winkelwald 1\, 77787 Nordrach
SUMMARY:Kurkonzert der Trachtenkapelle in der Winkelwaldklinik\, Winkelwald
 klinik Nordrach
X-ALT-DESC;FMTTYPE=text/html:<strong>Kurzbeschreibung:</strong><br/>Traditi
 onelle und moderne Musikstücke versprechen einen ganz besonderen Abend. Ve
 ranstaltungsraum Haus 2\, Etage 4. Bei gutem Wetter auf der Terrasse.<br /
 ><strong>Ort:</strong><br/>Winkelwaldklinik Nordrach<br/>Winkelwald 1\, 77
 787 Nordrach<br /><strong>Veranstalter:</strong><br/>Trachtenkapelle Nordr
 ach e.V.<br /><strong>Termin:</strong><br/>Beginn: 22.04.2026\, 19:00 Uhr<
 br/>Ende: 22.04.2026<br /><strong>Link:</strong><br/><a href='https://orte
 naukultur.de/fr/evenements/detail/evenement/id/582783-kurkonzert-der-trach
 tenkapelle-in-der-winkelwaldklinik/?vt=1'>Page détaillée </a>
END:VEVENT
END:VCALENDAR
