BEGIN:VCALENDAR
VERSION:2.0
PRODID:-//ortenaukultur.de//NONSGML kigkonsult.se iCalcreator 2.41.92//
CALSCALE:GREGORIAN
METHOD:PUBLISH
UID:34313936-3132-4232-a332-313239383662
X-WR-TIMEZONE:Europe/Berlin
X-LIC-LOCATION:Europe/Berlin
BEGIN:VEVENT
UID:585234-kulturportal@ortenaukultur.de
DTSTAMP:20260422T220506Z
DESCRIPTION:Kurzbeschreibung:\n Großes Jubiläumsfest des Bauwagetreff Münch
 weier mit Cleopha\, FreiBlech und The Himmi-Brothers\n Ort:\n Traubenabnah
 mestelle WG Münchweier\n L 103 (beim Kreisverkehr)\, 77955 Ettenheim-Münch
 weier\n Veranstalter:\n Bauwagetreff Münchweier e.V\n Termin:\n Beginn: 01
 .05.2026\n Ende: 01.05.2026\n Link:\n Page détaillée
DTSTART;TZID=Europe/Berlin:20260501T000000
DTEND;TZID=Europe/Berlin:20260501T030000
LOCATION:Traubenabnahmestelle WG Münchweier\, L 103 (beim Kreisverkehr)\, 7
 7955 Ettenheim-Münchweier
SUMMARY:40 Jahre Bauwagentreff Münchweier\, Traubenabnahmestelle WG Münchwe
 ier
X-ALT-DESC;FMTTYPE=text/html:<strong>Kurzbeschreibung:</strong><br/>Großes 
 Jubiläumsfest des Bauwagetreff Münchweier mit Cleopha\, FreiBlech und The 
 Himmi-Brothers\n<br /><strong>Ort:</strong><br/>Traubenabnahmestelle WG Mü
 nchweier<br/>L 103 (beim Kreisverkehr)\, 77955 Ettenheim-Münchweier<br /><
 strong>Veranstalter:</strong><br/>Bauwagetreff Münchweier e.V<br /><strong
 >Termin:</strong><br/>Beginn: 01.05.2026<br/>Ende: 01.05.2026<br /><strong
 >Link:</strong><br/><a href='https://ortenaukultur.de/fr/evenements/detail
 /evenement/id/585234-40-jahre-bauwagentreff-muenchweier/?vt=1'>Page détail
 lée </a>
END:VEVENT
END:VCALENDAR
