BEGIN:VCALENDAR
VERSION:2.0
PRODID:-//ortenaukultur.de//NONSGML kigkonsult.se iCalcreator 2.41.92//
CALSCALE:GREGORIAN
METHOD:PUBLISH
UID:33653836-3036-4539-b032-376532383235
X-WR-TIMEZONE:Europe/Berlin
X-LIC-LOCATION:Europe/Berlin
BEGIN:VEVENT
UID:585337-kulturportal@ortenaukultur.de
DTSTAMP:20260422T225628Z
DESCRIPTION:Kurzbeschreibung:\n Die Oberrhein Messe präsentiert sich als un
 vergleichliches Freizeit-Erlebnis für die ganze Familie!\n Ort:\n Messe Of
 fenburg-Ortenau\n Schutterwälderstraße 3\, 77654 Offenburg\n Veranstalter:
 \n Messe Offenburg-Ortenau GmbH\n Termin:\n Beginn: 26.09.2026\n Ende: 26.
 09.2026\n Tickets:\n Tickets\n https://www.oberrhein-messe.de/de/tickets\n
  Erwachsene (Online): 5\,00 EUR\n Erwachsene (Tageskasse): 6\,00 EUR\n Kin
 der 6 bis 17 Jahre(Online & Tageskasse): 2\,00 EUR\n Rentner (Tageskasse):
  5\,00 EUR\n Familienkarte (Online & Tageskarte): 13 EUR\n Link:\n Page dé
 taillée
DTSTART;TZID=Europe/Berlin:20260926T000000
DTEND;TZID=Europe/Berlin:20260926T030000
LOCATION:Messe Offenburg-Ortenau\, Schutterwälderstraße 3\, 77654 Offenburg
SUMMARY:Oberrhein Messe\, Messe Offenburg-Ortenau
X-ALT-DESC;FMTTYPE=text/html:<strong>Kurzbeschreibung:</strong><br/>Die Obe
 rrhein Messe präsentiert sich als unvergleichliches Freizeit-Erlebnis für 
 die ganze Familie!\n\n\n\n\n<br /><strong>Ort:</strong><br/>Messe Offenbur
 g-Ortenau<br/>Schutterwälderstraße 3\, 77654 Offenburg<br /><strong>Verans
 talter:</strong><br/>Messe Offenburg-Ortenau GmbH<br /><strong>Termin:</st
 rong><br/>Beginn: 26.09.2026<br/>Ende: 26.09.2026<br /><strong>Tickets: </
 strong><br/><a  class='wco_cb_subtitle_link'  id='ticketlink'  href='https
 ://www.oberrhein-messe.de/de/tickets' target='_blank' >Tickets</a><br/>htt
 ps://www.oberrhein-messe.de/de/tickets<br/>Erwachsene (Online): 5\,00 EUR<
 br />\nErwachsene (Tageskasse): 6\,00 EUR<br />\nKinder 6 bis 17 Jahre(Onl
 ine &amp\; Tageskasse): 2\,00 EUR<br />\nRentner (Tageskasse): 5\,00 EUR<b
 r />\nFamilienkarte (Online &amp\; Tageskarte): 13 EUR<br /><strong>Link:<
 /strong><br/><a href='https://ortenaukultur.de/fr/evenements/detail/evenem
 ent/id/585337-oberrhein-messe/?vt=1'>Page détaillée </a>
END:VEVENT
END:VCALENDAR
