BEGIN:VCALENDAR
VERSION:2.0
PRODID:-//ortenaukultur.de//NONSGML kigkonsult.se iCalcreator 2.41.92//
CALSCALE:GREGORIAN
METHOD:PUBLISH
UID:66366466-3862-4637-b934-656138356266
X-WR-TIMEZONE:Europe/Berlin
X-LIC-LOCATION:Europe/Berlin
BEGIN:VEVENT
UID:585458-kulturportal@ortenaukultur.de
DTSTAMP:20260422T225705Z
DESCRIPTION:Kurzbeschreibung:\n Die Grimmelshausen-Gesprächsrunden möchten 
 das Andenken an das Wirken Grimmelshausens im Renchtal wachhalten.\n Ort:
 \n Gasthaus 'Zum Silbernen Stern'\n Simplicissimus Straße 8\, 77704 Oberki
 rch\n Veranstalter:\n Grimmelshausen-Gesprächsrunde\n Termin:\n Beginn: 02
 .06.2026\, 19:00 Uhr\n Ende: 02.06.2026\n Tickets:\n Eintritt frei! Um Spe
 nden wird gebeten.\n Link:\n Page détaillée
DTSTART;TZID=Europe/Berlin:20260602T190000
DTEND;TZID=Europe/Berlin:20260602T220000
LOCATION:Gasthaus 'Zum Silbernen Stern'\, Simplicissimus Straße 8\, 77704 O
 berkirch
SUMMARY:Grimmelshausen-Gesprächsrunden 2026\, Gasthaus 'Zum Silbernen Stern
 '
X-ALT-DESC;FMTTYPE=text/html:<strong>Kurzbeschreibung:</strong><br/>Die Gri
 mmelshausen-Gesprächsrunden möchten das Andenken an das Wirken Grimmelshau
 sens im Renchtal wachhalten. <br /><strong>Ort:</strong><br/>Gasthaus 'Zum
  Silbernen Stern'<br/>Simplicissimus Straße 8\, 77704 Oberkirch<br /><stro
 ng>Veranstalter:</strong><br/>Grimmelshausen-Gesprächsrunde<br /><strong>T
 ermin:</strong><br/>Beginn: 02.06.2026\, 19:00 Uhr<br/>Ende: 02.06.2026<br
  /><strong>Tickets: </strong><br/>Eintritt frei! Um Spenden wird gebeten.<
 br /><strong>Link:</strong><br/><a href='https://ortenaukultur.de/fr/evene
 ments/detail/evenement/id/585458-grimmelshausen-gespraechsrunden-2026/?vt=
 1'>Page détaillée </a>
END:VEVENT
END:VCALENDAR
