BEGIN:VCALENDAR
VERSION:2.0
PRODID:-//ortenaukultur.de//NONSGML kigkonsult.se iCalcreator 2.41.92//
CALSCALE:GREGORIAN
METHOD:PUBLISH
UID:66323235-3864-4662-b139-633939636633
X-WR-TIMEZONE:Europe/Berlin
X-LIC-LOCATION:Europe/Berlin
BEGIN:VEVENT
UID:586102-kulturportal@ortenaukultur.de
DTSTAMP:20260421T211542Z
DESCRIPTION:Kurzbeschreibung:\n Die Fliegergruppe Renchtal veranstaltet tra
 ditionell das Fliegerfest im Fliegerheim in Ramsbach-Höfle.\n Ort:\n Flieg
 erheim in Ramsbach-Höfle\n Waldmattstraße\, 77728 Oppenau\n Veranstalter:
 \n Segelflieger Renchtal\n Termin:\n Beginn: 01.05.2026\n Ende: 01.05.2026
 \n Link:\n Page détaillée
DTSTART;VALUE=DATE:20260501
DTEND;VALUE=DATE:20260502
LOCATION:Fliegerheim in Ramsbach-Höfle\, Waldmattstraße\, 77728 Oppenau
SUMMARY:Fliegerfest beim Fliegerheim in Ramsbach\, Festplatz in Ramsbach-Hö
 fle
X-ALT-DESC;FMTTYPE=text/html:<strong>Kurzbeschreibung:</strong><br/>Die Fli
 egergruppe Renchtal veranstaltet traditionell das Fliegerfest im Fliegerhe
 im in Ramsbach-Höfle.<br /><strong>Ort:</strong><br/>Fliegerheim in Ramsba
 ch-Höfle<br/>Waldmattstraße\, 77728 Oppenau<br /><strong>Veranstalter:</st
 rong><br/>Segelflieger Renchtal<br /><strong>Termin:</strong><br/>Beginn: 
 01.05.2026<br/>Ende: 01.05.2026<br /><strong>Link:</strong><br/><a href='h
 ttps://ortenaukultur.de/fr/evenements/detail/evenement/id/586102-fliegerfe
 st-beim-fliegerheim-in-ramsbach/?vt=1'>Page détaillée </a>
END:VEVENT
END:VCALENDAR
