BEGIN:VCALENDAR
VERSION:2.0
PRODID:-//ortenaukultur.de//NONSGML kigkonsult.se iCalcreator 2.41.92//
CALSCALE:GREGORIAN
METHOD:PUBLISH
UID:65353764-3831-4565-b630-356336343561
X-WR-TIMEZONE:Europe/Berlin
X-LIC-LOCATION:Europe/Berlin
BEGIN:VEVENT
UID:587487-kulturportal@ortenaukultur.de
DTSTAMP:20260421T205747Z
DESCRIPTION:Kurzbeschreibung:\n Kunst kommt ins Aenne-Burda-Stift Gemälde u
 nd Zeichnungen von Wolfgang Ebert\n Ort:\n Aenne Burda-Stift\, Kornstr. 2 
 \, Offenburg\n Veranstalter:\n KUNSTkommt\n Termin:\n Beginn: 10.03.2026\n
  Ende: 10.03.2026\n Tickets:\n Eintritt frei\n Link:\n Page détaillée
DTSTART;TZID=Europe/Berlin:20260310T000000
DTEND;TZID=Europe/Berlin:20260310T030000
LOCATION:Aenne Burda-Stift\, Kornstr. 2 \, Offenburg
SUMMARY:Innenlicht  |   Wolfgang Ebert \, Aenne Burda-Stift\, Kornstr. 2
X-ALT-DESC;FMTTYPE=text/html:<strong>Kurzbeschreibung:</strong><br/>Kunst k
 ommt ins Aenne-Burda-Stift \nGemälde und Zeichnungen\nvon Wolfgang Ebert\n
 \n<br /><strong>Ort:</strong><br/>Aenne Burda-Stift\, Kornstr. 2 \, Offenb
 urg<br /><strong>Veranstalter:</strong><br/>KUNSTkommt<br /><strong>Termin
 :</strong><br/>Beginn: 10.03.2026<br/>Ende: 10.03.2026<br /><strong>Ticket
 s: </strong><br/>Eintritt frei<br /><strong>Link:</strong><br/><a href='ht
 tps://ortenaukultur.de/fr/evenements/detail/evenement/id/587487-innenlicht
 -wolfgang-ebert/?vt=1'>Page détaillée </a>
END:VEVENT
END:VCALENDAR
