BEGIN:VCALENDAR
VERSION:2.0
PRODID:-//ortenaukultur.de//NONSGML kigkonsult.se iCalcreator 2.41.92//
CALSCALE:GREGORIAN
METHOD:PUBLISH
UID:38616631-6462-4461-a563-313566333132
X-WR-TIMEZONE:Europe/Berlin
X-LIC-LOCATION:Europe/Berlin
BEGIN:VEVENT
UID:587955-kulturportal@ortenaukultur.de
DTSTAMP:20260422T021412Z
DESCRIPTION:Kurzbeschreibung:\n Lernen Sie die Traumtour 'Lautenbacher Hexe
 nsteig kennen und lassen Sie sich unterwegs von der heimischen Gastronomie
  mit leckeren Köstlichkeiten verwöhnen.\n Ort:\n Lautenbacher Hexensteig\n
  Sendelbachstraße 1\, 77794 Lautenbach\n Veranstalter:\n Gemeinde Lautenba
 ch\n Termin:\n Beginn: 02.04.2026\n Ende: 02.04.2026\n Tickets:\n 53 €\n L
 ink:\n Page détaillée
DTSTART;TZID=Europe/Berlin:20260402T000000
DTEND;TZID=Europe/Berlin:20260402T030000
LOCATION:Lautenbacher Hexensteig \, Sendelbachstraße 1\, 77794 Lautenbach
SUMMARY:Lautenbacher Vesperwanderung   \, Neuensteinhalle
X-ALT-DESC;FMTTYPE=text/html:<strong>Kurzbeschreibung:</strong><br/>Lernen 
 Sie die Traumtour 'Lautenbacher Hexensteig kennen und lassen Sie sich unte
 rwegs von der heimischen Gastronomie mit leckeren Köstlichkeiten verwöhnen
 .<br /><strong>Ort:</strong><br/>Lautenbacher Hexensteig <br/>Sendelbachst
 raße 1\, 77794 Lautenbach<br /><strong>Veranstalter:</strong><br/>Gemeinde
  Lautenbach<br /><strong>Termin:</strong><br/>Beginn: 02.04.2026<br/>Ende:
  02.04.2026<br /><strong>Tickets: </strong><br/>53 €<br /><strong>Link:</s
 trong><br/><a href='https://ortenaukultur.de/fr/evenements/detail/evenemen
 t/id/587955-lautenbacher-vesperwanderung/?vt=1'>Page détaillée </a>
END:VEVENT
END:VCALENDAR
