BEGIN:VCALENDAR
VERSION:2.0
PRODID:-//ortenaukultur.de//NONSGML kigkonsult.se iCalcreator 2.41.92//
CALSCALE:GREGORIAN
METHOD:PUBLISH
UID:33646532-3235-4366-b035-316633663034
X-WR-TIMEZONE:Europe/Berlin
X-LIC-LOCATION:Europe/Berlin
BEGIN:VEVENT
UID:588463-kulturportal@ortenaukultur.de
DTSTAMP:20260422T223818Z
DESCRIPTION:Kurzbeschreibung:\n Kostenlose öffentliche Führung durch das Il
 lenau Arkaden Museum. Die bewegende Geschichte der einst europaweit angese
 henen Heilanstalt für seelisch Kranke wird\n Ort:\n Illenau Arkaden Museum
 \n Illenau Allee 75\, 77855 Achern\n Veranstalter:\n Stadt Achern - FG3.3 
 - Tourist-Info\n Termin:\n Beginn: 28.08.2026\, 18:00 Uhr\n Ende: 28.08.20
 26\n Link:\n Page détaillée
DTSTART;TZID=Europe/Berlin:20260828T180000
DTEND;TZID=Europe/Berlin:20260828T210000
LOCATION:Illenau Arkaden Museum\, Illenau Allee 75\, 77855 Achern
SUMMARY:Achern - Illenau - Öffentliche Führung durch das Illenau Arkaden Mu
 seum\, Illenau Arkaden Museum
X-ALT-DESC;FMTTYPE=text/html:<strong>Kurzbeschreibung:</strong><br/>Kostenl
 ose öffentliche Führung durch das Illenau Arkaden Museum. Die bewegende Ge
 schichte der einst europaweit angesehenen Heilanstalt für seelisch Kranke 
 wird<br /><strong>Ort:</strong><br/>Illenau Arkaden Museum<br/>Illenau All
 ee 75\, 77855 Achern<br /><strong>Veranstalter:</strong><br/>Stadt Achern 
 - FG3.3 - Tourist-Info<br /><strong>Termin:</strong><br/>Beginn: 28.08.202
 6\, 18:00 Uhr<br/>Ende: 28.08.2026<br /><strong>Link:</strong><br/><a href
 ='https://ortenaukultur.de/fr/evenements/detail/evenement/id/588463-achern
 -illenau-oeffentliche-fuehrung-durch-das-illenau-arkaden-museum/?vt=1'>Pag
 e détaillée </a>
END:VEVENT
END:VCALENDAR
