BEGIN:VCALENDAR
VERSION:2.0
PRODID:-//ortenaukultur.de//NONSGML kigkonsult.se iCalcreator 2.41.92//
CALSCALE:GREGORIAN
METHOD:PUBLISH
UID:66323336-3130-4432-b037-623163303661
X-WR-TIMEZONE:Europe/Berlin
X-LIC-LOCATION:Europe/Berlin
BEGIN:VEVENT
UID:588473-kulturportal@ortenaukultur.de
DTSTAMP:20260422T225129Z
DESCRIPTION:Kurzbeschreibung:\n Kostenlose öffentliche Führung über das Auß
 engelände der ehemaligen Pflege- und Heilanstalt Illenau.\n Ort:\n Illenau
  - Gesamter Außenbereich einschl. Innenhöfe\n Illenauer Allee 73\, 77855 A
 chern\n Veranstalter:\n Stadt Achern - FG3.3 - Tourist-Info\n Termin:\n Be
 ginn: 28.08.2026\, 16:00 Uhr\n Ende: 28.08.2026\n Link:\n Page détaillée
DTSTART;TZID=Europe/Berlin:20260828T160000
DTEND;TZID=Europe/Berlin:20260828T190000
LOCATION:Illenau - Gesamter Außenbereich einschl. Innenhöfe\, Illenauer All
 ee 73\, 77855 Achern
SUMMARY:Achern - Illenau - Öffentliche Führung über das Außengelände\, Ille
 nau - Gesamter Außenbereich einschl. Innenhöfe
X-ALT-DESC;FMTTYPE=text/html:<strong>Kurzbeschreibung:</strong><br/>Kostenl
 ose öffentliche Führung über das Außengelände der ehemaligen Pflege- und H
 eilanstalt Illenau.<br /><strong>Ort:</strong><br/>Illenau - Gesamter Auße
 nbereich einschl. Innenhöfe<br/>Illenauer Allee 73\, 77855 Achern<br /><st
 rong>Veranstalter:</strong><br/>Stadt Achern - FG3.3 - Tourist-Info<br /><
 strong>Termin:</strong><br/>Beginn: 28.08.2026\, 16:00 Uhr<br/>Ende: 28.08
 .2026<br /><strong>Link:</strong><br/><a href='https://ortenaukultur.de/fr
 /evenements/detail/evenement/id/588473-achern-illenau-oeffentliche-fuehrun
 g-ueber-das-aussengelaende/?vt=1'>Page détaillée </a>
END:VEVENT
END:VCALENDAR
