BEGIN:VCALENDAR
VERSION:2.0
PRODID:-//ortenaukultur.de//NONSGML kigkonsult.se iCalcreator 2.41.92//
CALSCALE:GREGORIAN
METHOD:PUBLISH
UID:32323634-3938-4166-b062-346236333635
X-WR-TIMEZONE:Europe/Berlin
X-LIC-LOCATION:Europe/Berlin
BEGIN:VEVENT
UID:588690-kulturportal@ortenaukultur.de
DTSTAMP:20260422T005807Z
DESCRIPTION:Kurzbeschreibung:\n Der Musikverein Konkordia Willstätt lädt zu
 m Festwochenende anläßlich seines 100-jährigen Bestehens ein.\n Ort:\n Han
 auerlandhalle\n Hornisgrindestraße 4\, 77731 Willstätt\n Veranstalter:\n M
 usikverein 'Konkordia' Willstätt\n Termin:\n Beginn: 02.05.2026\, 19:00 Uh
 r\n Ende: 02.05.2026\n Link:\n Page détaillée
DTSTART;TZID=Europe/Berlin:20260502T190000
DTEND;TZID=Europe/Berlin:20260502T220000
LOCATION:Hanauerlandhalle\, Hornisgrindestraße 4\, 77731 Willstätt
SUMMARY:Festwochenende Jubiläum 100 Jahre Musikverein Konkordia Willstätt\,
  Hanauerlandhalle
X-ALT-DESC;FMTTYPE=text/html:<strong>Kurzbeschreibung:</strong><br/>Der Mus
 ikverein Konkordia Willstätt lädt zum Festwochenende anläßlich seines 100-
 jährigen Bestehens ein.<br /><strong>Ort:</strong><br/>Hanauerlandhalle<br
 />Hornisgrindestraße 4\, 77731 Willstätt<br /><strong>Veranstalter:</stron
 g><br/>Musikverein 'Konkordia' Willstätt<br /><strong>Termin:</strong><br/
 >Beginn: 02.05.2026\, 19:00 Uhr<br/>Ende: 02.05.2026<br /><strong>Link:</s
 trong><br/><a href='https://ortenaukultur.de/fr/evenements/detail/evenemen
 t/id/588690-festwochenende-jubilaeum-100-jahre-musikverein-konkordia-wills
 taett/?vt=1'>Page détaillée </a>
END:VEVENT
END:VCALENDAR
