BEGIN:VCALENDAR
VERSION:2.0
PRODID:-//ortenaukultur.de//NONSGML kigkonsult.se iCalcreator 2.41.92//
CALSCALE:GREGORIAN
METHOD:PUBLISH
UID:66343662-6339-4538-a538-623335396530
X-WR-TIMEZONE:Europe/Berlin
X-LIC-LOCATION:Europe/Berlin
BEGIN:VEVENT
UID:589069-kulturportal@ortenaukultur.de
DTSTAMP:20260423T001641Z
DESCRIPTION:Kurzbeschreibung:\n Norwegische Poesie musikalisch eindrucksvol
 l auf die Bühne gebracht\, das sind LJODAHÅTT.\n Ort:\n Reithalle im Kultu
 rforum\n Moltkestraße 31\, 77654 Offenburg\n Veranstalter:\n Kulturbüro Of
 fenburg\n Termin:\n Beginn: 04.10.2026\, 19:00 Uhr\n Ende: 04.10.2026\n Ti
 ckets:\n Achat de billets\n https://ortenaukultur.reservix.de/p/reservix/e
 vent/2516398\n 1. Kategorie:\n jusqu'à 23\,00 € + Réduction\n *Toute taxe 
 comprise\n \n Link:\n Page détaillée
DTSTART;TZID=Europe/Berlin:20261004T190000
DTEND;TZID=Europe/Berlin:20261004T220000
LOCATION:Reithalle im Kulturforum\, Moltkestraße 31\, 77654 Offenburg
SUMMARY:LJODAHÅTT\, Reithalle im Kulturforum
X-ALT-DESC;FMTTYPE=text/html:<strong>Kurzbeschreibung:</strong><br/>Norwegi
 sche Poesie musikalisch eindrucksvoll auf die Bühne gebracht\, das sind LJ
 ODAHÅTT. <br /><strong>Ort:</strong><br/>Reithalle im Kulturforum<br/>Molt
 kestraße 31\, 77654 Offenburg<br /><strong>Veranstalter:</strong><br/>Kult
 urbüro Offenburg<br /><strong>Termin:</strong><br/>Beginn: 04.10.2026\, 19
 :00 Uhr<br/>Ende: 04.10.2026<br /><strong>Tickets: </strong><br/><a rel='a
 sdf' href='https://ortenaukultur.de/fr/evenements/detail/billets/id/589069
 -ljodahaatt/?follow=https%253A%252F%252Fortenaukultur.reservix.de%252Fp%25
 2Freservix%252Fevent%252F2516398' target='_blank' title='' id='ticketlink'
 >Achat de billets</a><br/>https://ortenaukultur.reservix.de/p/reservix/eve
 nt/2516398<br/><b>1. Kategorie: </b><br />jusqu&#039\;à 23\,00 &euro\;&nbs
 p\; + Réduction<br />*Toute taxe comprise<br /><br /><strong>Link:</strong
 ><br/><a href='https://ortenaukultur.de/fr/evenements/detail/evenement/id/
 589069-ljodahaatt/?vt=1'>Page détaillée </a>
END:VEVENT
END:VCALENDAR
