BEGIN:VCALENDAR
VERSION:2.0
PRODID:-//ortenaukultur.de//NONSGML kigkonsult.se iCalcreator 2.41.92//
CALSCALE:GREGORIAN
METHOD:PUBLISH
UID:37666263-6362-4730-b137-323738386264
X-WR-TIMEZONE:Europe/Berlin
X-LIC-LOCATION:Europe/Berlin
BEGIN:VEVENT
UID:590010-kulturportal@ortenaukultur.de
DTSTAMP:20260422T022156Z
DESCRIPTION:Kurzbeschreibung:\n Der Mai ist gekommen ...... feiern Sie mit 
 den Landfrauen am 01. Mai 2026\n Ort:\n Freizeitgelände Heilig Garten\n He
 ilig Garten\, 77773 Schenkenzell\n Veranstalter:\n LandFrauenverein\n Term
 in:\n Beginn: 01.05.2026\, 11:00 Uhr\n Ende: 01.05.2026\n Link:\n Page dét
 aillée
DTSTART;TZID=Europe/Berlin:20260501T110000
DTEND;TZID=Europe/Berlin:20260501T140000
LOCATION:Freizeitgelände Heilig Garten\, Heilig Garten\, 77773 Schenkenzell
SUMMARY:Maifest der Landfrauen\, Freizeitgelände Heilig Garten
X-ALT-DESC;FMTTYPE=text/html:<strong>Kurzbeschreibung:</strong><br/>Der Mai
  ist gekommen ...... feiern Sie mit den Landfrauen am 01. Mai 2026 <br /><
 strong>Ort:</strong><br/>Freizeitgelände Heilig Garten<br/>Heilig Garten\,
  77773 Schenkenzell<br /><strong>Veranstalter:</strong><br/>LandFrauenvere
 in<br /><strong>Termin:</strong><br/>Beginn: 01.05.2026\, 11:00 Uhr<br/>En
 de: 01.05.2026<br /><strong>Link:</strong><br/><a href='https://ortenaukul
 tur.de/fr/evenements/detail/evenement/id/590010-maifest-der-landfrauen/?vt
 =1'>Page détaillée </a>
END:VEVENT
END:VCALENDAR
